BEGIN:VCALENDAR
VERSION:2.0
PRODID:-//MAGIC LAS VEGAS 2026— Local Booth Builder &amp; Rentals - ECPv6.15.20//NONSGML v1.0//EN
CALSCALE:GREGORIAN
METHOD:PUBLISH
X-ORIGINAL-URL:https://magiclasvegas2026.com
X-WR-CALDESC:Events for MAGIC LAS VEGAS 2026— Local Booth Builder &amp; Rentals
REFRESH-INTERVAL;VALUE=DURATION:PT1H
X-Robots-Tag:noindex
X-PUBLISHED-TTL:PT1H
BEGIN:VTIMEZONE
TZID:UTC
BEGIN:STANDARD
TZOFFSETFROM:+0000
TZOFFSETTO:+0000
TZNAME:UTC
DTSTART:20250101T000000
END:STANDARD
END:VTIMEZONE
BEGIN:VEVENT
DTSTART;TZID=UTC:20260503T090000
DTEND;TZID=UTC:20260504T235959
DTSTAMP:20260425T160714
CREATED:20251102T174416Z
LAST-MODIFIED:20251102T174416Z
UID:26008-1777798800-1777939199@magiclasvegas2026.com
SUMMARY:THE MAKEUP SHOW - NYC 2026
DESCRIPTION:THE MAKEUP SHOW – NYC 2026 booth rental — Premium Guide & Custom Booth Options\nAbout THE MAKEUP SHOW – NYC 2026\nVenue & Location\nNew York NY: Our Services\nCustom Booth Models\nFAQ\nTHE MAKEUP SHOW – NYC 2026: Unveiling Beauty Trends\nJoin us at THE MAKEUP SHOW – NYC 2026 booth rental for an enlightening experience tailored for professionals in the beauty industry. This event focuses on educational opportunities\, showcasing the latest trends\, techniques\, and insider secrets for a successful career from acclaimed makeup artists and beauty experts. Expect unparalleled learning and networking potential that will elevate your brand. \n\nKey Details: May 1–2\, 2026\, 9:00 AM–5:00 PM\, Metropolitan Pavilion\, 125 West 18 TH Street\, New York\, NY 10011\, United States. Visit our website for more information.\n\nIndustries & Audience: Beauty & Personal Care\, Fashion – Clothing. \nVenue & Location\nTHE MAKEUP SHOW – NYC 2026 takes place at the Metropolitan Pavilion\, located at 125 West 18 TH Street\, New York\, NY 10011\, United States. We recommend familiarizing yourself with logistical elements such as move-in windows and dock access to streamline your experience. \nNew York NY: Our Services\nWe DESIGN\, PRODUCE\, INSTALL & DISMANTLE turnkey booth rentals in New York NY. Our services encompass concept/design\, modular frames\, branded SEG graphics\, reception/storage areas\, TV mounts\, and on-site installation and dismantling. Let us help you create a remarkable presence at this impactful event. \nCustom Booth Models\nWe offer various popular booth footprints that are highly effective for the beauty and fashion sectors. Consider the 10×10 or 10×20 configurations\, ideal for brand visibility while facilitating engaging interactions with attendees. For larger setups\, our 20×20 designs are impressive\, allowing for immersive experiences across various categories. Partner with us for Snap Exhibitions Custom Booth Models that cater to your unique needs. \nExplore our full-service exhibit support for all aspects of your booth setup\, ensuring a seamless experience from conception to completion. \nReady to enhance your presence? Contact our team today! \nFAQ\nWhat is THE MAKEUP SHOW – NYC 2026 booth rental?\nWe provide custom booth rentals to showcase your brand effectively at this prestigious beauty event. \nWhat are the event hours of THE MAKEUP SHOW – NYC 2026?\nThe event will be held on May 1–2\, 2026\, from 9:00 AM to 5:00 PM each day. \nWhat booth sizes do you recommend for the beauty and fashion sectors?\nWe recommend a minimum of 10×10 ft for effective engagement but suggest 10×20 ft for optimal visibility. \nWhy is aluminum a better choice than wood for booth construction?\nAluminum is lighter\, more durable\, and reusable\, offering a long-term solution that wood does not provide. \nWhat can I expect from New York during THE MAKEUP SHOW – NYC 2026?\nNew York offers a vibrant atmosphere and strong networking opportunities that will enrich your experience at the show. \nHow can SNAP EXHIBITIONS help to make everything perfect about my booth?\nWe excel in providing comprehensive services\, ensuring your booth reflects your brand effectively while also maximizing attendee engagement. \nExperience the benefits of a well-crafted presence at the event with THE MAKEUP SHOW – NYC 2026 booth rental. We’re here to help! Contact us for a consultation today!
URL:https://magiclasvegas2026.com/event/the-makeup-show-nyc-2026/
CATEGORIES:Beauty & Personal Care,Fashion - Clothing
END:VEVENT
END:VCALENDAR