BEGIN:VCALENDAR
VERSION:2.0
PRODID:-//MAGIC LAS VEGAS 2026— Local Booth Builder &amp; Rentals - ECPv6.15.20//NONSGML v1.0//EN
CALSCALE:GREGORIAN
METHOD:PUBLISH
X-ORIGINAL-URL:https://magiclasvegas2026.com
X-WR-CALDESC:Events for MAGIC LAS VEGAS 2026— Local Booth Builder &amp; Rentals
REFRESH-INTERVAL;VALUE=DURATION:PT1H
X-Robots-Tag:noindex
X-PUBLISHED-TTL:PT1H
BEGIN:VTIMEZONE
TZID:UTC
BEGIN:STANDARD
TZOFFSETFROM:+0000
TZOFFSETTO:+0000
TZNAME:UTC
DTSTART:20250101T000000
END:STANDARD
END:VTIMEZONE
BEGIN:VEVENT
DTSTART;TZID=UTC:20260410T090000
DTEND;TZID=UTC:20260411T235959
DTSTAMP:20260425T161337
CREATED:20251102T182130Z
LAST-MODIFIED:20251102T182130Z
UID:26090-1775811600-1775951999@magiclasvegas2026.com
SUMMARY:ART & CRAFT FAIR - MINOT\, ND 2026
DESCRIPTION:ART & CRAFT FAIR – MINOT\, ND 2026 booth rental — Premium Exhibitor Guide & Custom Booth Options\nAbout ART & CRAFT FAIR – MINOT\, ND 2026\nVenue & Location\nMinot ND: Our Services\nCustom Booth Models\nFAQ\n\nART & CRAFT FAIR – MINOT\, ND 2026 booth rental offers an excellent opportunity for exhibitors who wish to showcase their creativity and craftsmanship in various sectors such as Handicraft Products\, Decoration\, Home & Office Design\, and more. This event invites artisans showcasing handmade items like handcrafted wood furniture\, decorative pieces\, photography\, pottery\, jewelry\, floral arrangements\, and creative clothing pieces for all ages. Exhibitors gain notable exposure and the chance to connect with a diverse audience. \nKey Details: \n\nDate: Dec 5–6\, 2026\, 10:00 AM–6:00 PM\nLocation: ND State Fair Center\nAddress: 2005 Burdick Expy E\, Minot\, ND 58701\, United States\n\nIndustries & Audience: Handicraft Products\, Decoration\, Home & Office Design\, Furniture\, Lighting\, Gifts & Souvenirs\, Catering & Hospitality Industries\, Fashion – Clothing\, Jewelry \n\n\nThe event will take place at ND State Fair Center\, located at 2005 Burdick Expy E\, Minot\, ND 58701\, United States. As an exhibitor\, you’ll appreciate the logistical advantages of excellent loading zones and easy access to the venue\, making setup and dismantling hassle-free. \nFor inquiries\, feel free to reach us at {Phone}. \n\n\nIn Minot\, ND\, we DESIGN\, PRODUCE\, INSTALL & DISMANTLE turnkey booth rentals. We provide comprehensive services\, including concept and design\, modular frames\, branded SEG graphics\, reception and storage areas\, TV mounts\, and on-site installation & dismantling. \n\n\nOur popular booth footprint options include: \n\n10×10: Ideal for smaller artisan showcases and hands-on exhibits.\n10×20: Perfect for those wanting a little more space while ensuring maximum visibility.\n20×20: A great choice for larger presentations or collaborative displays\, suited to the diverse sectors of attendees.\n\nCheck out our Snap Exhibitions Custom Booth Models for inspiration. \nWe also provide full-service exhibit support to ensure everything runs seamlessly! \nFor more information and specific inquiries\, contact our team. \n\n\nFAQ\n\nWhat does ART & CRAFT FAIR – MINOT\, ND 2026 booth rental entail?\nWe offer various booth rental options tailored to your showcasing needs.\nWhen does the event take place?\nThe ART & CRAFT FAIR is scheduled for Dec 5–6\, 2026\, from 10:00 AM to 6:00 PM.\nWhat size booth do you recommend for handicraft exhibitors?\nWe recommend a 10×10 or 10×20 size for most handicraft exhibitors for optimal visibility and accessibility.\nWhy are aluminum booths better than wood?\nAluminum booths are more lightweight\, durable\, and easier to set up compared to traditional wooden structures.\nWhat can SNAP EXHIBITIONS do to make everything perfect about our booth?\nWe ensure a seamless experience with our complete turnkey services from design to installation.\nWhat is the significance of the ND State Fair Center in Minot?\nThe ND State Fair Center is a well-facilitated venue known for hosting various exhibitions and fairs\, providing great exposure.\nAre there any special attractions at ART & CRAFT FAIR – MINOT\, ND 2026?\nExpect diverse handcrafted items\, education\, and networking opportunities with other artisans!\n\n\nART & CRAFT FAIR – MINOT\, ND 2026 booth rental provides the ideal platform for you to showcase your unique creations and expand your network. For more information or to secure your spot\, contact our team today!
URL:https://magiclasvegas2026.com/event/art-craft-fair-minot-nd-2026/
CATEGORIES:Catering & Hospitality Industries,Decoration,Fashion - Clothing,Furniture,Gifts & Souvenirs,Handicraft Products,Home & Office Design,Jewelry,Lighting
END:VEVENT
END:VCALENDAR