BEGIN:VCALENDAR
VERSION:2.0
PRODID:-//MAGIC LAS VEGAS 2026— Local Booth Builder &amp; Rentals - ECPv6.15.20//NONSGML v1.0//EN
CALSCALE:GREGORIAN
METHOD:PUBLISH
X-ORIGINAL-URL:https://magiclasvegas2026.com
X-WR-CALDESC:Events for MAGIC LAS VEGAS 2026— Local Booth Builder &amp; Rentals
REFRESH-INTERVAL;VALUE=DURATION:PT1H
X-Robots-Tag:noindex
X-PUBLISHED-TTL:PT1H
BEGIN:VTIMEZONE
TZID:UTC
BEGIN:STANDARD
TZOFFSETFROM:+0000
TZOFFSETTO:+0000
TZNAME:UTC
DTSTART:20240101T000000
END:STANDARD
END:VTIMEZONE
BEGIN:VEVENT
DTSTART;TZID=UTC:20251028T090000
DTEND;TZID=UTC:20251030T235959
DTSTAMP:20260425T124755
CREATED:20251102T173329Z
LAST-MODIFIED:20251102T173329Z
UID:25984-1761642000-1761868799@magiclasvegas2026.com
SUMMARY:PROCESS EXPO 2025
DESCRIPTION:PROCESS EXPO 2025 Booth Rental — Essential Exhibitor Guide & Custom Booth Options\nAbout PROCESS EXPO 2025\nPROCESS EXPO 2025 booth rental is your gateway to showcasing innovations in the food processing industry. As the nation’s largest trade show for the food and beverage sector\, PROCESS EXPO attracts key players eager to explore the latest technology and integrated solutions. With thousands of attendees from the **Food Processing Industries**\, **Packaging**\, and **Wine & Spirits – Viticulture & Enology – Beer** sectors\, this event is where suppliers and buyers connect.\nKey Details:\n– **Dates**: Sep 12–14\, 2025\, 9:00 AM–5:00 PM\n– **Location**: McCormick Place Convention Center\, 2301 S. Lake Shore Drive\, Chicago\, Illinois\, United States. \nVenue & Location\nThe PROCESS EXPO 2025 will take place at the McCormick Place Convention Center\, located at 2301 S. Lake Shore Drive\, Chicago\, Illinois\, USA. This venue is an iconic destination in the national exhibition landscape. Attendees can expect streamlined logistics with accessible move-in windows and convenient dock access. \nChicago IL: Our Services\nAt Snap Exhibitions\, we DESIGN\, PRODUCE\, INSTALL & DISMANTLE turnkey booth rentals in Chicago\, IL. Our comprehensive service includes concept creation\, modular frame setups\, vibrant SEG graphics\, reception and storage solutions\, TV mounts\, and on-site installation and dismantling. \nCustom Booth Models\nWe offer a variety of popular booth sizes tailored to meet your needs\, including:\n– **10×10**: Ideal for small enterprises looking to make a bold statement. \n– **10×20**: Great for medium brands ready to showcase multiple products. \n– **20×20**: Perfect for larger brands who want to create an immersive experience.\nEach booth model is designed to ensure compatibility with attendees in the food processing and packaging industries. For examples of our designs\, check out our Snap Exhibitions Custom Booth Models\, and our full-service exhibit support. \nFAQ\n\nWhat is PROCESS EXPO 2025 booth rental?\nPROCESS EXPO 2025 booth rental refers to the leasing of exhibit space designed for showcasing your products and services at the event.\nWhat are the dates and hours for this event?\nThe event will run from September 12 to 14\, 2025\, from 9:00 AM to 5:00 PM each day.\nWhat booth sizes do you recommend for the Food Processing Industries?\nFor the Food Processing Industries\, we recommend starting with a 10×20 booth for mid-level exposure or a 20×20 for a larger presence.\nWhy is an aluminum booth better than wood?\nAluminum booths are lightweight\, durable\, and provide a more modern aesthetic compared to wood options\, making setup and transport easier.\nWhat can I do to ensure a successful experience at PROCESS EXPO 2025?\nEngage with attendees through interactive displays and clearly present your product offerings.\nHow can I contact Snap Exhibitions for my booth?\nFor personalized assistance\, contact our team today!\nWhat should I know about Chicago when attending?\nChicago is known for its vibrant food scene\, and attendees will find numerous dining and networking opportunities near the venue.\n\nTo ensure an impactful presence at PROCESS EXPO 2025\, consider our PROCESS EXPO 2025 booth rental options. Our team is here to help you make everything perfect for your booth. Contact us today!
URL:https://magiclasvegas2026.com/event/process-expo-2025/
CATEGORIES:Food Processing Industries,Packaging,Wine & Spirits - Viticulture & Enology - Beer
END:VEVENT
BEGIN:VEVENT
DTSTART;TZID=UTC:20251027T090000
DTEND;TZID=UTC:20251030T235959
DTSTAMP:20260425T124755
CREATED:20251102T172713Z
LAST-MODIFIED:20251102T172713Z
UID:25970-1761555600-1761868799@magiclasvegas2026.com
SUMMARY:SUPPLYSIDE WEST 2025
DESCRIPTION:SUPPLYSIDE WEST 2025 booth rental — Impactful Exhibitor Guide & Custom Booth Options\nAbout SUPPLYSIDE WEST 2025\nSUPPLYSIDE WEST 2025 booth rental is essential for exhibitors looking to make a significant impact in Las Vegas. From Food Processing Industries to Health & Nature and Pharmaceuticals & Cosmetology\, this leading tradeshow connects over 250 top suppliers and service providers in the health and nutrition sector. Visitors gain insights into the latest trends and innovations\, making it a must-attend event. \n\nKey Details:\nDates: Sep 1–3\, 2025\, 9:00 AM–5:00 PM\nLocation: Mandalay Bay Convention Center\nAddress: 3950 Las Vegas Blvd. South\, Las Vegas\, Nevada 89119\, USA\nEvent Website: SupplySide West\n\nExhibitors should target their audience effectively to maximize their ROI. We help you with customized solutions! \nVenue & Location\nThe Mandalay Bay Convention Center at 3950 Las Vegas Blvd. South\, Las Vegas\, Nevada 89119\, USA\, is an esteemed venue in the United States. Visitors will find excellent logistics for moving in and docking access. Get ready to showcase your offerings! \nLas Vegas NV: Our Services\nIn Las Vegas\, we DESIGN\, PRODUCE\, INSTALL & DISMANTLE turnkey booth rentals. Our services cover concept design\, modular frames\, branded SEG graphics\, reception/storage areas\, and TV mounts. We ensure your booth stands out. \nCustom Booth Models\nExplore popular footprints like 10×10\, 10×20\, and 20×20. Each size meets the diverse needs of exhibitors in the industries mentioned. For unique designs\, check our Snap Exhibitions Custom Booth Models. With our full-service exhibit support\, we assist you in creating an impactful presence. Don’t hesitate to contact our team to discuss how we can bring your vision to life! \nFAQ\n\nWhat is SUPPLYSIDE WEST 2025 booth rental?This service provides exhibitors with high-quality booth designs tailored for the needs of the Food Processing Industries\, Health & Nature\, and Pharmaceuticals sectors.\nWhat are the event hours for SUPPLYSIDE WEST 2025?The event will take place from September 1 to 3\, 2025\, from 9:00 AM to 5:00 PM.\nWhat booth sizes do you recommend for Food Processing Industries?We suggest popular options like 10×10 and 10×20\, as they provide ample space for engagement and display while being manageable.\nWhy is aluminum better than wood for booths?Aluminum is lighter\, more durable\, and allows for more intricate designs compared to traditional wood. Plus\, it’s easier to recycle!\nWhat services do you offer in Las Vegas?We offer comprehensive exhibit services\, ensuring your booth is stylish\, functional\, and effective at SUPPLYSIDE WEST 2025.\nHow can SNAP EXHIBITIONS help make everything perfect about our booth?We provide turnkey solutions from design to dismantling\, ensuring you have a seamless experience at your event.\n\nTo elevate your presence with SUPPLYSIDE WEST 2025 booth rental and make a powerful impression\, please contact us today!
URL:https://magiclasvegas2026.com/event/supplyside-west-2025/
CATEGORIES:Food Processing Industries,Health & Nature,Natural & Organic Food,Pharmaceuticals & Cosmetology
END:VEVENT
BEGIN:VEVENT
DTSTART;TZID=UTC:20251024T090000
DTEND;TZID=UTC:20251025T235959
DTSTAMP:20260425T124755
CREATED:20251102T183734Z
LAST-MODIFIED:20251102T183734Z
UID:26126-1761296400-1761436799@magiclasvegas2026.com
SUMMARY:COFFEE FEST - ORLANDO 2025
DESCRIPTION:COFFEE FEST – ORLANDO 2025 Booth Rental — Ultimate Guide\nAbout COFFEE FEST – ORLANDO 2025\nCOFFEE FEST – ORLANDO 2025 booth rental is the ideal choice for exhibitors aiming to connect with the specialty coffee community. Taking place at the renowned Orange County Convention Center in Orlando\, Florida\, this event brings together the top-selling brands in the specialty coffee industry. Attendees can engage with suppliers\, educators\, and experts while exploring the latest trends and innovations in the field. \nKey Details:\nSeptember 26–28\, 2025\, 9:00 AM–5:00 PM\nOrange County Convention Center\n9800 International Drive\nOrlando\, FL 32819-8199\, USA \nThe Industries & Audience: Coffee\, Tea & Chocolate\, Catering & Hospitality Industries\, Food Processing Industries. \nVenue & Location\nThe event will be hosted at the Orange County Convention Center in Orlando\, Florida. This venue offers ample space for exhibitors and attendees alike\, with convenient logistics for move-in. If you need assistance\, feel free to call the convention center for guidance. \nOrlando FL: Our Services\nWe DESIGN\, PRODUCE\, INSTALL & DISMANTLE turnkey booth rentals in Orlando\, FL. Our services encompass everything from concept and design to on-site installation and dismantling. Our booth rentals include modular frames\, SEG graphics\, and various amenities such as reception areas\, storage options\, and provisions for a TV mount. \nCustom Booth Models\nOur popular booth footprints\, such as Snap Exhibitions Custom Booth Models\, are designed to meet the needs of exhibitors in the food and beverage sector: \n\n10×10 Booths – Perfect for start-up brands looking to showcase their offerings without overwhelming their space.\n10×20 Booths – Ideal for established brands wanting to make a larger impact while retaining a welcoming environment.\n20×20 Booths – Great for major industry players aiming for maximum visibility and engagement.\n\nWe provide full-service exhibit support to ensure your booth captively presents your brand’s story. \nFAQ\n\nWhat is a COFFEE FEST – ORLANDO 2025 booth rental?\n    It’s a service allowing exhibitors to rent fully equipped booths to showcase their products effectively.\nWhen are the event hours for COFFEE FEST – ORLANDO 2025?\n    The event runs from September 26 to 28\, 2025\, from 9:00 AM to 5:00 PM.\nWhat booth sizes do you recommend for the Catering & Hospitality sectors?\n    We suggest 10×20 or 20×20 booths for greater engagement and visibility for larger brands.\nWhy are aluminum booths better than wood?\n    Aluminum booths are lighter\, more durable\, and allow for quicker setup and dismantling.\nWhat makes the Orange County Convention Center a great venue?\n    Its central location and extensive amenities cater perfectly to industry events.\nHow can SNAP EXHIBITIONS help me make my booth perfect?\n    We specialize in turnkey booth rentals that ensure your display is both impactful and functional. Feel free to contact our team for more information.\n\nIn summary\, COFFEE FEST – ORLANDO 2025 booth rental is an opportunity for meaningful connections in the specialty coffee industry. Join us for this essential event and experience seamless connections among industry leaders. For personalized booth solutions that stand out\, contact us today!
URL:https://magiclasvegas2026.com/event/coffee-fest-orlando-2025/
CATEGORIES:Catering & Hospitality Industries,Coffee,Food Processing Industries,Tea & Chocolate
END:VEVENT
BEGIN:VEVENT
DTSTART;TZID=UTC:20251012T090000
DTEND;TZID=UTC:20251014T235959
DTSTAMP:20260425T124755
CREATED:20251102T185608Z
LAST-MODIFIED:20251102T185608Z
UID:26168-1760259600-1760486399@magiclasvegas2026.com
SUMMARY:RESTAURANTSPACES - LOS ANGELES\, CA 2025
DESCRIPTION:RESTAURANTSPACES – LOS ANGELES\, CA 2025 Booth Rental — Essential Solutions\nAbout RESTAURANTSPACES – LOS ANGELES\, CA 2025\nVenue & Location\nPalm Springs\, CA: Our Services\nCustom Booth Models\nFAQ\nRESTAURANTSPACES – LOS ANGELES\, CA 2025: About the Event\nThe RESTAURANTSPACES – LOS ANGELES\, CA 2025 booth rental offers an incredible opportunity for exhibitors to connect with key leaders in the transforming restaurant industry. This event emphasizes imaginative design and robust technology integration\, giving attendees valuable insights into revolutionizing their restaurant concepts. During this transformative experience\, exhibitors will gain exposure\, networking opportunities\, and ideas that spark innovation. \nKey Details: April 10–13\, 2025\, Palm Springs\, CA\, USA. Visit the event website for more information. \nIndustries & Audience: Catering & Hospitality Industries\, Food Processing Industries\, Wine & Spirits – Viticulture & Enology – Beer\, Decoration\, Home & Office Design\, Furniture\, Lighting\, Retail & Shop Fitting Equipment & Service\, Marketing & Selling\, Internet & Intranet\, Decision Helping Tools & Management Services. \nVenue & Location\nThe event will be held in Palm Springs\, CA\, USA. This venue is accessible with efficient logistics for move-in and dock access\, allowing exhibitors to set up easily before the event. \nPalm Springs\, CA: Our Services\nWe DESIGN\, PRODUCE\, INSTALL & DISMANTLE turnkey booth rentals in Palm Springs\, CA. Our comprehensive services cover every aspect from concept design to modular frames and branded SEG graphics\, ensuring a professional presentation of your brand. We also provide additional facilities such as reception areas\, storage\, TV mounts\, and on-site installation and dismantling support. \nCustom Booth Models\nExplore our popular booth options perfect for the catering and hospitality sectors: \n\n10×10: Ideal for small brands looking to create a focused space.\n10×20: Offers more visibility and room for interaction.\n20×20: Great for larger exhibitors aiming to showcase multiple offerings.\n\nLearn more about our Snap Exhibitions Custom Booth Models tailored for every need\, and visit our full-service exhibit support page to view our offerings. If you want to get started\, contact our team today! \nFAQ\n\nWhat is RESTAURANTSPACES – LOS ANGELES\, CA 2025 booth rental?  RESTAURANTSPACES – LOS ANGELES\, CA 2025 booth rental is an opportunity for exhibitors to showcase their brand effectively during a major event in the restaurant industry.\nWhat are the event hours and dates? The event runs from April 10–13\, 2025. Timing details will be provided closer to the date.\nWhat booth sizes are recommended for catering and hospitality sectors? A 10×20 booth is commonly recommended for brands in these sectors to engage visitors while showcasing multiple products.\nWhy is an aluminum booth better than wood? Aluminum booths are generally lighter\, more durable\, and can be designed for better modularity compared to traditional wood booths.\nWhat can you tell me about Palm Springs? Palm Springs is known for its vibrant atmosphere\, making it an ideal location to host events that attract attention and visitors.\nHow can Snap Exhibitions help me make everything perfect about my booth? We provide complete solutions from design to execution\, ensuring your booth stands out and meets your goals effectively.\nWhat can I expect at RESTAURANTSPACES – LOS ANGELES\, CA 2025? Expect insightful discussions\, networking with leaders\, and innovative ideas focused on the latest trends transforming the restaurant industry.\n\nIn conclusion\, RESTAURANTSPACES – LOS ANGELES\, CA 2025 booth rental is essential for anyone involved in the restaurant business looking to expand their influence and insight. Don’t miss this chance to elevate your business! Contact our team today!
URL:https://magiclasvegas2026.com/event/restaurantspaces-los-angeles-ca-2025/
CATEGORIES:Catering & Hospitality Industries,Decision Helping Tools & Management Services,Decoration,Food Processing Industries,Furniture,Home & Office Design,Internet & Intranet,Lighting,Marketing & Selling,Retail & Shop Fitting Equipment & Service,Wine & Spirits - Viticulture & Enology - Beer
END:VEVENT
BEGIN:VEVENT
DTSTART;TZID=UTC:20250913T090000
DTEND;TZID=UTC:20250917T235959
DTSTAMP:20260425T124755
CREATED:20251102T170730Z
LAST-MODIFIED:20251102T170730Z
UID:25932-1757754000-1758153599@magiclasvegas2026.com
SUMMARY:IBIE 2025
DESCRIPTION:IBIE 2025 Booth Rental — Exhibitor Guide & Premium Options\nAbout IBIE 2025\nVenue & Location\nLas Vegas NV: Our Services\nCustom Booth Models\nFAQ\nAbout IBIE 2025\nIBIE 2025 Booth Rental is the ultimate gateway to the premier International Baking Industry Exhibition. This event showcases the grain-based food industry\, bringing together top professionals in Catering & Hospitality Industries\, Food Processing Industries. At IBIE\, visitors and exhibitors can explore the latest in Baking Equipment\, Baking Ingredients\, Flavorings\, Handling Systems\, and Packaging materials services\, ensuring top-notch business opportunities. \nKey Details: September 22–25\, 9:00 AM–5:00 PM\, Las Vegas Convention Center\, 3150 Paradise Road\, Las Vegas\, NV 89109\, United States. For more information\, visit the official IBIE website. \nIndustries & Audience: The exhibition focuses on Catering & Hospitality Industries\, Food Processing Industries. \nVenue & Location\nThe IBIE 2025 event will be held at the Las Vegas Convention Center\, located at 3150 Paradise Road\, Las Vegas\, NV 89109\, United States. The venue provides excellent logistical features such as generous move-in windows and dock access for exhibitors. We recommend arriving early for setup to maximize your readiness. \nLas Vegas NV: Our Services\nIn Las Vegas NV\, we DESIGN\, PRODUCE\, INSTALL & DISMANTLE turnkey booth rentals. Our services encompass concept and design\, modular frames\, branded SEG graphics\, reception/storage solutions\, and TV mounts. We are committed to delivering a seamless exhibition experience tailored to your goals. \nCustom Booth Models\nDiscover our diverse selection of booth footprints that cater to various exhibitor needs: \n\n10×10 booths: Ideal for start-ups or small businesses looking to make a grand impact.\n10×20 booths: Perfect for medium-sized showcases that demand a little more space.\n20×20 booths: Designed for larger exhibits\, offering ample display area for your products and services.\n\nFrequently\, exhibitors in the Catering & Hospitality and Food Processing sectors choose these popular footprints\, ensuring that their message stands out. \nFor comprehensive support\, visit our Snap Exhibitions Custom Booth Models\, or learn more about our full-service exhibit support. To get started\, contact our team for expert guidance! \nFAQ\nQ1: What is IBIE 2025 booth rental?A: IBIE 2025 booth rental provides exhibitors with a premium setup at the International Baking Industry Exhibition\, ensuring maximum engagement and visibility. \nQ2: When is IBIE 2025?A: IBIE 2025 will take place from September 22–25\, 9:00 AM–5:00 PM. \nQ3: What booth sizes do you recommend for the Catering & Hospitality Industries?A: We suggest 10×10 or 10×20 booths for smaller setups\, while larger exhibitors may prefer 20×20 to accommodate their displays. \nQ4: Why is an aluminum booth better than wood?A: Aluminum booths are more lightweight\, durable\, and easy to assemble compared to wood\, making them ideal for a trade show environment. \nQ5: What can I expect at IBIE 2025 in Las Vegas?A: Expect extensive networking opportunities and the latest innovations in the baking industry. \nQ6: How can SNAP EXHIBITIONS help to make everything perfect for our booth?A: We offer comprehensive design and support services to ensure your booth meets your vision and engages your audience effectively. \nQ7: What services do you offer in Las Vegas for exhibitors?A: We provide complete turnkey booth rentals\, from design to on-site installation and dismantling. \nIn conclusion\, IBIE 2025 booth rental is your pathway to an impactful presence at the exhibition! Don’t miss out on this chance to stand out — contact our team today for details!
URL:https://magiclasvegas2026.com/event/ibie-2025/
CATEGORIES:Catering & Hospitality Industries,Food Processing Industries
END:VEVENT
BEGIN:VEVENT
DTSTART;TZID=UTC:20250909T090000
DTEND;TZID=UTC:20250911T235959
DTSTAMP:20260425T124755
CREATED:20251031T193005Z
LAST-MODIFIED:20251031T193005Z
UID:25710-1757408400-1757635199@magiclasvegas2026.com
SUMMARY:HUSKER HARVEST DAYS 2025
DESCRIPTION:HUSKER HARVEST DAYS 2025 booth rental — Ultimate Exhibitor Guide & Custom Booth Options\nAbout HUSKER HARVEST DAYS 2025\nVenue & Location\nGrand Island NE: Our Services\nCustom Booth Models\nFAQ\nAbout HUSKER HARVEST DAYS 2025\nHUSKER HARVEST DAYS 2025 booth rental offers an exceptional opportunity for engagement in the agricultural sector. Known as the world’s largest totally irrigated working farm show\, this event provides a unique agricultural experience that showcases the latest in agricultural machinery\, livestock\, poultry\, and more. Exhibitors and visitors alike can gain valuable insights into sustainable practices and innovative technologies that are transforming the industry. \nKey Details: Sep 6–8\, 9:00 AM–5:00 PM\, Fonner Park\, 700 E Stolley Park Rd\, Grand Island\, NE 68801\, United States. Visit the official website for more information. \nIndustries & Audience: Agriculture – Agricultural Machinery\, Livestock & Poultry\, Trucks and Utility Vehicles\, Water Management and Treatment\, Food Processing Industries\, Decision Helping Tools & Management Services. \nVenue & Location\nFonner Park\, located at 700 E Stolley Park Rd\, Grand Island\, NE 68801\, United States\, is an ideal venue for HUSKER HARVEST DAYS 2025. This location offers easy access to various logistics\, including ample space for exhibitors and central access for attendees. \nGrand Island NE: Our Services\nIn Grand Island\, NE\, we DESIGN\, PRODUCE\, INSTALL & DISMANTLE turnkey booth rentals. Our comprehensive service scope encompasses concept/design\, modular frames\, branded SEG graphics\, reception/storage\, TV mount\, and on-site installation & dismantling (I&D). \nCustom Booth Models\nExplore popular booth footprints like 10×10\, 10×20\, and 20×20 tailored for HUSKER HARVEST DAYS attendees. Each size is optimized to showcase your products effectively while engaging potential customers. Check out our Snap Exhibitions Custom Booth Models for diverse options. With our full-service exhibit support\, you can rely on us for all booth needs\, ensuring an impactful presence at the show. For more details\, contact our team. \nFAQ\nWhat is HUSKER HARVEST DAYS 2025 booth rental?\nHUSKER HARVEST DAYS 2025 booth rental is an opportunity for exhibitors to showcase their products and engage with a diverse audience interested in agricultural innovations. \nWhen are the event hours and dates?\nThe event will take place from September 6–8\, 2025\, from 9:00 AM to 5:00 PM. \nWhat are the recommended booth sizes for Agriculture sectors?\nPopular booth sizes like 10×10 or 20×20 work well for the Agriculture industry as they offer ample space for displaying products and engaging with attendees. \nWhy is aluminum booth better than wood?\nAluminum booths are typically lighter\, more durable\, and easier to maintain than wood booths\, providing a sleek look that can enhance branding efforts. \nWhat can I do in Grand Island\, NE during the event?\nGrand Island offers various attractions including parks and local restaurants that can enhance your visit during HUSKER HARVEST DAYS 2025. \nHow can SNAP EXHIBITIONS help ensure my booth is perfect?\nWe excel in every aspect of the booth experience\, including design\, production\, installation\, and dismantle\, ensuring a seamless experience from start to finish. \nFor more information about HUSKER HARVEST DAYS 2025 booth rental\, don’t hesitate to contact us today!
URL:https://magiclasvegas2026.com/event/husker-harvest-days-2025/
CATEGORIES:Agriculture - Agricultural Machinery,Decision Helping Tools & Management Services,Food Processing Industries,Livestock & Poultry,Trucks and Utility Vehicles,Water Management and Treatment
END:VEVENT
END:VCALENDAR