BEGIN:VCALENDAR
VERSION:2.0
PRODID:-//MAGIC LAS VEGAS 2026— Local Booth Builder &amp; Rentals - ECPv6.15.13.1//NONSGML v1.0//EN
CALSCALE:GREGORIAN
METHOD:PUBLISH
X-ORIGINAL-URL:https://magiclasvegas2026.com
X-WR-CALDESC:Events for MAGIC LAS VEGAS 2026— Local Booth Builder &amp; Rentals
REFRESH-INTERVAL;VALUE=DURATION:PT1H
X-Robots-Tag:noindex
X-PUBLISHED-TTL:PT1H
BEGIN:VTIMEZONE
TZID:UTC
BEGIN:STANDARD
TZOFFSETFROM:+0000
TZOFFSETTO:+0000
TZNAME:UTC
DTSTART:20250101T000000
END:STANDARD
END:VTIMEZONE
BEGIN:VEVENT
DTSTART;TZID=UTC:20260421T090000
DTEND;TZID=UTC:20260423T235959
DTSTAMP:20260421T142926
CREATED:20251102T191510Z
LAST-MODIFIED:20251102T191510Z
UID:26211-1776762000-1776988799@magiclasvegas2026.com
SUMMARY:IWCE - INTERNATIONAL WINDOW COVERINGS EXPO 2026
DESCRIPTION:IWCE – INTERNATIONAL WINDOW COVERINGS EXPO 2026 Booth Rental — Essential\nTable of Contents\n\nAbout IWCE – INTERNATIONAL WINDOW COVERINGS EXPO 2026\nVenue & Location\nRaleigh NC: Our Services\nCustom Booth Models\nFAQ\n\nAbout IWCE – INTERNATIONAL WINDOW COVERINGS EXPO 2026\nIWCE – INTERNATIONAL WINDOW COVERINGS EXPO 2026 booth rental opens doors for businesses in Raleigh seeking to engage with the Building & Construction\, Home Show\, Architecture\, Decoration\, Home & Office Design\, Furniture\, Lighting\, and Textiles – Fabrics for Decoration sectors. \nThis premier event is set to take place from Feb 21–23\, 2026\, 9:00 AM–5:00 PM at Raleigh\, NC\, USA. IWCE serves as the largest business networking and education event for window treatment professionals\, equipping attendees with insights and connections crucial for success in the industry. \nKey Details: \n\nDate: Feb 21–23\, 2026\nLocation: Raleigh\, NC\nAddress: USA\n\nVenue & Location\nThe event will be held at Raleigh\, NC\, USA. Attendees can expect convenient logistics with general move-in windows for setup and dock access for transporting booth materials. \nFor inquiries\, please contact us via phone. \nRaleigh NC: Our Services\nIn Raleigh NC\, we DESIGN\, PRODUCE\, INSTALL & DISMANTLE turnkey booth rentals. Our services cover every aspect\, including concept/design\, modular frames\, branded SEG graphics\, reception/storage areas\, and TV mounts\, ensuring a seamless experience for exhibitors. \nCustom Booth Models\nWe offer various popular footprints\, including: \n\n10×10: Ideal for startups and small businesses showcasing essential products.\n10×20: Suitable for brands wanting to make a more substantial impact while remaining budget-conscious.\n20×20: Perfect for larger brands seeking maximum visibility and engagement.\n\nExplore our Snap Exhibitions Custom Booth Models for innovative designs and options. We provide full-service exhibit support to assist with all your design and logistic needs. To get started on your custom booth\, contact our team. \nFAQ\nWhat is IWCE – INTERNATIONAL WINDOW COVERINGS EXPO 2026 booth rental?\nIWCE – INTERNATIONAL WINDOW COVERINGS EXPO 2026 booth rental allows businesses to showcase their products and services\, network with industry professionals\, and gain valuable insights. \nWhat are the dates and hours for the event?\nThe event will be held from Feb 21–23\, 2026\, from 9:00 AM–5:00 PM each day. \nWhat booth sizes are recommended for the Building & Construction sectors?\nA 10×20 booth is common\, but a 20×20 option is recommended for larger brands to maximize visibility and engagement with attendees. \nWhy is an aluminum booth better than wood?\nAluminum booths are more durable\, lightweight\, and easier to transport\, offering greater flexibility for setup compared to traditional wood booths. \nWhat are some attractions of Raleigh NC for attendees?\nRaleigh is known for its vibrant culture\, friendly atmosphere\, and numerous dining options\, making it an enjoyable experience for all attendees. \nHow can SNAP EXHIBITIONS help make everything perfect about their booth?\nWe specialize in providing seamless turnkey booth rentals that cover everything from design to installation\, ensuring your booth stands out. \nDon’t miss out on the potential of IWCE – INTERNATIONAL WINDOW COVERINGS EXPO 2026 booth rental for your business. Connect with us today to elevate your exhibitor presence: Contact our team.
URL:https://magiclasvegas2026.com/event/iwce-international-window-coverings-expo-2026/
CATEGORIES:Architecture,Building & Construction,Decoration,Furniture,Home & Office Design,Home Show,Lighting,Textiles - Fabrics for Decoration
END:VEVENT
BEGIN:VEVENT
DTSTART;TZID=UTC:20260421T090000
DTEND;TZID=UTC:20260423T235959
DTSTAMP:20260421T142926
CREATED:20251102T191550Z
LAST-MODIFIED:20251102T191550Z
UID:26212-1776762000-1776988799@magiclasvegas2026.com
SUMMARY:VISION - INTERNATIONAL WINDOW COVERINGS EXPO (IWCE) 2026
DESCRIPTION:VISION – INTERNATIONAL WINDOW COVERINGS EXPO (IWCE) 2026 booth rental — Premium\nAbout VISION – INTERNATIONAL WINDOW COVERINGS EXPO (IWCE) 2026\nVenue & Location\nRaleigh\, NC: Our Services\nCustom Booth Models\nFAQ\nAbout VISION – INTERNATIONAL WINDOW COVERINGS EXPO (IWCE) 2026\nVISION – INTERNATIONAL WINDOW COVERINGS EXPO (IWCE) 2026 booth rental is an essential opportunity for businesses in the Home Show sector. This event brings together industry professionals to showcase innovations in Hard and Soft Window Coverings\, Decorative Drapery Hardware\, as well as design insights for Kitchen & Bath. Attendees and exhibitors gain valuable networking opportunities and access to the latest trends that will shape the future of the window coverings industry. \nKey Details:March 2026 (exact dates TBD)\, Raleigh\, NC\, USA. For more information\, please refer to the official website. \nIndustries & Audience: Home Show\, Decoration\, Home & Office Design\, Furniture\, Lighting\, Building & Construction. \nVenue & Location\nThe event will be held in Raleigh\, NC\, USA. Attendees can expect suitable logistics for move-in and access. For inquiries\, feel free to reach out via phone. \nRaleigh\, NC: Our Services\nIn Raleigh\, NC\, we DESIGN\, PRODUCE\, INSTALL & DISMANTLE turnkey booth rentals. Our services include concept and design\, modular frames\, branded SEG graphics\, reception and storage solutions\, and TV mounts on-site. \nCustom Booth Models\nDiscover our popular booth footprints: 10×10\, 10×20\, 20×20. Each is designed to maximize engagement and fit seamlessly into the sectors represented at IWCE 2026. For more about our offerings\, check out our Snap Exhibitions Custom Booth Models\, or learn about our full-service exhibit support. \nWe invite you to contact our team for detailed inquiries and personalized rental solutions. \nFAQ\nWhat are the event hours for VISION – INTERNATIONAL WINDOW COVERINGS EXPO (IWCE) 2026?The event will take place in March 2026; specific hours are yet to be announced. \nWhat is the focus of the VISION – INTERNATIONAL WINDOW COVERINGS EXPO (IWCE) 2026 booth rental?Our focus is on providing an impactful platform for showcasing innovations in the window coverings and design industries. \nWhat recommended booth sizes are ideal for the Home Show sector?Common booth sizes like 10×10 and 10×20 are preferred\, allowing for effective displays while engaging visitors. \nWhy is an aluminum booth better than wood?Aluminum booths are lighter\, more durable\, and easier to transport and assemble than traditional wooden structures. \nWhat unique features does Raleigh offer for events like IWCE 2026?Raleigh boasts modern facilities and a vibrant local community that adds to the experience of attending such expos. \nHow can SNAP EXHIBITIONS help me make everything perfect about my booth?We specialize in customizable\, turnkey booth solutions tailored to enhance your presence and effectiveness at trade shows. \nAs we approach VISION – INTERNATIONAL WINDOW COVERINGS EXPO (IWCE) 2026\, remember that VISION – INTERNATIONAL WINDOW COVERINGS EXPO (IWCE) 2026 booth rental from us is the ideal way to elevate your exhibition experience. Contact us today!
URL:https://magiclasvegas2026.com/event/vision-international-window-coverings-expo-iwce-2026/
CATEGORIES:Building & Construction,Decoration,Furniture,Home & Office Design,Home Show,Lighting
END:VEVENT
BEGIN:VEVENT
DTSTART;TZID=UTC:20260505T090000
DTEND;TZID=UTC:20260507T235959
DTSTAMP:20260421T142926
CREATED:20251102T161806Z
LAST-MODIFIED:20251102T161806Z
UID:25820-1777971600-1778198399@magiclasvegas2026.com
SUMMARY:CONNECTIONS 2026
DESCRIPTION:CONNECTIONS 2026 booth rental — Ultimate Exhibitor Guide & Custom Booth Options\nAbout CONNECTIONS 2026\nVenue & Location\nSanta Clara CA: Our Services\nCustom Booth Models\nFAQ\nAbout CONNECTIONS 2026\nCONNECTIONS 2026 booth rental offers a golden opportunity for exhibitors in the converging world of household appliances and digital technologies. This international executive conference for Digital Home Technologies brings together key decision-makers and innovators. Participants can explore cutting-edge innovations\, network with industry leaders\, and develop partnerships that can enhance their market presence. \nThe event highlights the evolution of the connected home from a premium concept to a mass-market phenomenon with substantial revenue potential. Key Details:  Sep 1–3\, 2026\, 9:00 AM–5:00 PM  Hyatt Regency\, Santa Clara\, 5101 Great America Pkwy\, Santa Clara\, CA\, United States  For more information\, visit the official event website. \nIndustries & Audience: Household Appliances – Domestic Appliance Technology\, Consumers Electronics\, Sound & Image Technologies\, Multimedia Technologies\, Telecommunications\, Computers Networks\, Internet & Intranet\, Home Show\, Decision Helping Tools & Management Services. \nVenue & Location\nThe CONNECTIONS 2026 event will be held at the Hyatt Regency\, located at 5101 Great America Pkwy\, Santa Clara\, CA\, United States. Attendees should note that the venue provides handy logistics solutions\, including access for set-up and dismantling. Although we do not list phone details or specific logistics\, the venue generally accommodates the needs of exhibitors well. \nSanta Clara CA: Our Services\nIn Santa Clara CA\, we DESIGN\, PRODUCE\, INSTALL & DISMANTLE turnkey booth rentals. Our offerings include concept and design services\, modular frames\, branded SEG graphics\, reception/storage areas\, and TV mounting to ensure your booth is a standout. Our comprehensive full-service exhibit support is tailored to create an impactful presence. \nCustom Booth Models\nWe provide innovative booth models ideal for CONNECTIONS 2026 and your target audience. Our popular booth footprints include: \n\n10×10 – Great for startups to establish a presence.\n10×20 – Perfect for showcasing products effectively.\n20×20 – Ideal for brands needing space for larger product displays.\n\nThese options are designed to fit the needs of various sectors attending the conference. Check out our Snap Exhibitions Custom Booth Models to find your perfect fit! \nFAQ\n\nWhat is CONNECTIONS 2026 booth rental?CONNECTIONS 2026 booth rental provides exhibitors with comprehensive services that include booth design and installation.\nWhat are the hours of CONNECTIONS 2026?The hours are from September 1 to September 3\, 2026\, 9:00 AM to 5:00 PM.\nWhat booth sizes are recommended for technology sectors?We recommend a minimum of a 10×10 booth size for startups and a 20×20 for established brands.\nWhy is an aluminum booth better than wood?Aluminum is lighter\, more durable\, and allows for intricate designs while being easier to transport.\nWhat services are available in Santa Clara?This city offers excellent logistics and services tailored for technology expos and conferences.\nWhat is CONNECTIONS 2026?It is an international conference focusing on Digital Home Technologies.\nHow can SNAP EXHIBITIONS help make everything perfect about my booth?We specialize in turnkey booth rentals\, ensuring full support from design to dismantling to meet your specific needs.\n\nOur CONNECTIONS 2026 booth rental will set your business up for success at the event. Don’t miss the opportunity to shine; contact our team today for more information!
URL:https://magiclasvegas2026.com/event/connections-2026/
CATEGORIES:Computers Networks,Consumers Electronics,Decision Helping Tools & Management Services,Home Show,Household Appliances - Domestic Appliance Technology,Internet & Intranet,Multimedia Technologies,Sound & Image Technologies,Telecommunications
END:VEVENT
BEGIN:VEVENT
DTSTART;TZID=UTC:20260601T090000
DTEND;TZID=UTC:20260604T235959
DTSTAMP:20260421T142926
CREATED:20251102T162900Z
LAST-MODIFIED:20251102T162900Z
UID:25843-1780304400-1780617599@magiclasvegas2026.com
SUMMARY:ESX - ELECTRONIC SECURITY EXPO 2026
DESCRIPTION:ESX – ELECTRONIC SECURITY EXPO 2026 booth rental — Premium\nAbout ESX – ELECTRONIC SECURITY EXPO 2026\nVenue & Location\nIrving TX: Our Services\nCustom Booth Models\nFAQ\nESX – ELECTRONIC SECURITY EXPO 2026 — Exhibitor Guide & Custom Booth Options\nAt ESX – ELECTRONIC SECURITY EXPO 2026 booth rental\, we provide exhibitors with seamless opportunities to engage with the audience in the security technology sector. This premier event\, focused on electronic security\, is an excellent platform for makers and suppliers of electronic security products and services. Our turnkey booth rentals enable you to maximize visibility and interaction with clientele\, ensuring you stand out. \nKey Details: March 28–30\, 2026\, 9:00 AM–5:00 PM\, Irving Convention Center\, 500 West Las Colinas Boulevard\, Irving\, TX 75039\, United States. For more details\, visit the official event page. \nThe industries represented at ESX include Security – Risk Management\, Electronic Design & Components\, Building & Construction\, Industrial Building\, Home Show\, Subcontracting\, Suppliers & Partners. \nVenue & Location\nThe ESX – ELECTRONIC SECURITY EXPO 2026 will take place at the Irving Convention Center\, located at 500 West Las Colinas Boulevard\, Irving\, TX 75039\, United States. This venue is well-equipped to facilitate large-scale events with smooth logistics\, ensuring easy access for exhibitors and attendees alike. \nIrving TX: Our Services\nWe DESIGN\, PRODUCE\, INSTALL & DISMANTLE turnkey booth rentals in Irving TX. Our team specializes in providing complete solutions ranging from concept and design to modular frames and branded SEG graphics. We handle reception and storage needs\, TV mounts\, and on-site installation and dismantling. With Snap Exhibitions\, your booth becomes a significant part of your trade show experience. \nCustom Booth Models\nExplore our range of Snap Exhibitions Custom Booth Models\, designed to fit your needs. Our popular booth sizes like 10×10\, 10×20\, and 20×20 are perfect for the respective sectors represented at the ESX. These configurations provide the ideal balance of visibility and engagement\, ensuring that your message resonates with attendees. \nAs part of our commitment\, we offer full-service exhibit support\, guaranteeing an effortless experience as you prepare for this crucial event. If you’re looking for tailored solutions\, contact our team to discuss your specific requirements. \nFAQ\nWhat are the benefits of ESX – ELECTRONIC SECURITY EXPO 2026 booth rental?\nESX – ELECTRONIC SECURITY EXPO 2026 booth rental allows exhibitors to provide a memorable experience by combining product displays\, networking\, and marketing. We ensure your booth is designed to capture attention and facilitate engagement. \nWhen does the event occur?\nThe ESX – ELECTRONIC SECURITY EXPO 2026 will take place from March 28 to March 30\, 2026\, operating daily from 9:00 AM to 5:00 PM. \nWhat booth sizes are recommended for security industry exhibitors?\nFor the security sectors represented\, we recommend sizes such as 10×20 and 20×20\, which offer good space for product display and interaction. \nWhy choose aluminum booths over wood?\nAluminum booths offer a more durable and lightweight alternative to wooden structures\, making them easier to transport and set up while providing a modern aesthetic. \nWhat services does Snap Exhibitions provide in Irving?\nIn Irving\, we provide complete booth rental solutions\, including design\, production\, and installation services that ensure a hassle-free experience throughout the event. \nHow can Snap Exhibitions help ensure everything is perfect about my booth?\nWith our expertise in turnkey solutions\, we take care of all aspects from design to installation\, ensuring that your booth not only meets but exceeds expectations. \nSecure your ESX – ELECTRONIC SECURITY EXPO 2026 booth rental today and elevate your presence at this major industry event. For more information\, don’t hesitate to contact our team.
URL:https://magiclasvegas2026.com/event/esx-electronic-security-expo-2026/
CATEGORIES:Building & Construction,Electronic Design & Components,Home Show,Industrial Building,Security - Risk Management,Subcontracting,Suppliers & Partners
END:VEVENT
BEGIN:VEVENT
DTSTART;TZID=UTC:20260729T090000
DTEND;TZID=UTC:20260730T235959
DTSTAMP:20260421T142926
CREATED:20251102T082448Z
LAST-MODIFIED:20251102T082448Z
UID:25753-1785315600-1785455999@magiclasvegas2026.com
SUMMARY:REFRI AMERICAS 2026
DESCRIPTION:REFRI AMERICAS 2026 booth rental — Premium Exhibitor Guide & Custom Booth Options\nAbout REFRI AMERICAS 2026\nVenue & Location\nFort Lauderdale FL: Our Services\nCustom Booth Models\nFAQ\nAbout REFRI AMERICAS 2026\nREFRI AMERICAS 2026 booth rental is essential for exhibitors looking to engage effectively in the Caribbean and Latin American refrigeration and air conditioning industry. Set to take place from Nov 27–29\, 2026\, 10:00 AM–5:00 PM\, this premier expo offers a platform for industry players to connect\, share innovations\, and explore business opportunities. Attendees will benefit from valuable insights and networking\, amplifying their presence in this vibrant market. \n\nKey Details:\nDate: Nov 27–29\, 2026\nLocation: Greater Ft. Lauderdale – Broward County Convention Center\nAddress: 1950 Eisenhower Blvd\, Fort Lauderdale\, FL 33316\, USA\nWebsite: REFRI AMERICAS 2026\n\nIndustries & Audience: Exhibitors will find a diverse audience from Heating – Air Conditioning\, Building & Construction\, Retail & Shop Fitting Equipment & Service\, Home Show\, Catering & Hospitality Industries. \nVenue & Location\nThe event will be held at the Greater Ft. Lauderdale – Broward County Convention Center\, located conveniently at 1950 Eisenhower Blvd\, Fort Lauderdale\, FL 33316\, USA. This venue offers ample space for move-in logistics and dock access\, facilitating efficient setup and dismantling processes. While no phone number is provided\, the center is well-equipped to support your exhibiting needs. \nFort Lauderdale FL: Our Services\nWe DESIGN\, PRODUCE\, INSTALL & DISMANTLE turnkey booth rentals in Fort Lauderdale FL. Our offerings include concept/design\, modular frames\, branded SEG graphics\, reception/storage areas\, TV mounts\, and on-site installation and dismantling services\, tailored to meet the unique requirements of exhibitors in this city. \nCustom Booth Models\nWe offer a range of popular booth designs\, perfect for fulfilling various exhibitor needs: \n\n10×10 booths: Ideal for small brands wanting to create an impactful presence.\n10×20 booths: Great for maximizing visibility while allowing flexibility and engagement.\n20×20 booths: Suited for larger displays\, fostering a collaborative experience in your exhibit.\n\nExplore more with our Snap Exhibitions Custom Booth Models to find the perfect fit for your needs. Our full-service exhibit support ensures everything runs smoothly from start to finish. If you’re ready to elevate your experience\, contact our team today! \nFAQ\nWhat is REFRI AMERICAS 2026 booth rental?REFRI AMERICAS 2026 booth rental refers to the opportunity for exhibitors to create custom booth displays to showcase their products and services effectively during the expo. \nWhat are the dates and hours for REFRI AMERICAS 2026?The event runs from Nov 27–29\, 2026\, 10:00 AM–5:00 PM. \nWhat booth sizes are recommended for these industries?For the sectors represented\, we usually recommend a 10×20 booth for medium-sized companies while larger firms might consider 20×20 booths for maximum impact. \nWhy is an aluminum booth better than wood?Aluminum booths are lighter\, more durable\, and can be easily reconfigured which provides flexibility in design and logistics\, making them a better choice for most events. \nWhat can you tell me about Fort Lauderdale?Fort Lauderdale is known for its vibrant business scene and proximity to major shipping routes\, making it an excellent city for trade shows. \nWhat excites you about REFRI AMERICAS 2026?This event is set to be a significant gathering for industry professionals\, showcasing the latest advancements and trends in refrigeration and air conditioning. \nHow can SNAP EXHIBITIONS help make everything perfect about their booth?We specialize in turnkey booth rentals\, providing comprehensive support from design to installation\, ensuring your exhibit stands out and operates seamlessly throughout the event. \nIn conclusion\, if you’re looking to secure a REFRI AMERICAS 2026 booth rental\, reach out to us today at Snap Exhibitions for a seamless and impactful experience!
URL:https://magiclasvegas2026.com/event/refri-americas-2026/
CATEGORIES:Building & Construction,Catering & Hospitality Industries,Heating - Air Conditioning,Home Show,Retail & Shop Fitting Equipment & Service
END:VEVENT
END:VCALENDAR