BEGIN:VCALENDAR
VERSION:2.0
PRODID:-//MAGIC LAS VEGAS 2026— Local Booth Builder &amp; Rentals - ECPv6.15.20//NONSGML v1.0//EN
CALSCALE:GREGORIAN
METHOD:PUBLISH
X-ORIGINAL-URL:https://magiclasvegas2026.com
X-WR-CALDESC:Events for MAGIC LAS VEGAS 2026— Local Booth Builder &amp; Rentals
REFRESH-INTERVAL;VALUE=DURATION:PT1H
X-Robots-Tag:noindex
X-PUBLISHED-TTL:PT1H
BEGIN:VTIMEZONE
TZID:UTC
BEGIN:STANDARD
TZOFFSETFROM:+0000
TZOFFSETTO:+0000
TZNAME:UTC
DTSTART:20250101T000000
END:STANDARD
END:VTIMEZONE
BEGIN:VEVENT
DTSTART;TZID=UTC:20260716T090000
DTEND;TZID=UTC:20260718T235959
DTSTAMP:20260425T143009
CREATED:20251031T194313Z
LAST-MODIFIED:20251031T194313Z
UID:25734-1784192400-1784419199@magiclasvegas2026.com
SUMMARY:RDH UNDER ONE ROOF 2026
DESCRIPTION:RDH UNDER ONE ROOF 2026 Booth Rental — Exhibitor Guide & Premium\nAbout RDH UNDER ONE ROOF 2026\nAt RDH UNDER ONE ROOF 2026\, exhibiting in the dental hygiene market presents an unparalleled opportunity to connect with your audience. This event takes place from Nov 15–17\, 9:00 AM–5:00 PM at the Gaylord National Resort and Convention Center\, located at 201 Waterfront Street National Harbor\, MD 20745 USA. Attendees\, from a diverse range of industries including Stomatology – Dentistry\, Health Professionals\, Equipments & Technologies for Medical and Surgery\, Laboratory Equipment & Technologies\, will benefit from access to cutting-edge products and networking opportunities. By showcasing your offerings\, you can foster valuable relationships while expanding your brand visibility. You can find more information here. \n\nKey Details:\nDates: Nov 15–17\, 9:00 AM–5:00 PM\nLocation: Gaylord National Resort and Convention Center\, 201 Waterfront Street National Harbor\, MD 20745\, United States\n\nVenue & Location\nWe proudly host RDH UNDER ONE ROOF 2026 at the stunning Gaylord National Resort and Convention Center. This venue is easily accessible and offers a range of logistics options for exhibitors\, including move-in windows and dock access. Although we don’t provide specifics\, rest assured that you will have a comfortable setting to showcase your innovations. For inquiries\, you may reach out via phone. \nNational Harbor MD: Our Services\nIn National Harbor MD\, we DESIGN\, PRODUCE\, INSTALL & DISMANTLE turnkey booth rentals. Our offerings include concept/design\, modular frames\, branded SEG graphics\, reception/storage solutions\, TV mounts\, and on-site install & dismantle services. We are committed to making your presence impactful. \nCustom Booth Models\nOur popular booth footprints\, such as the 10×10\, 10×20\, and 20×20\, are tailored for exhibitors in the healthcare sectors. The 10×10 model is perfect for new businesses showcasing innovative solutions. The 10×20 offers more visibility for larger brands\, while the 20×20 serves as an eye-catching centerpiece for those making bold statements. To learn more about our designs\, visit our Snap Exhibitions Custom Booth Models page or see our full-service exhibit support options. For personalized solutions\, contact our team. \nFAQ\n\nWhat is the RDH UNDER ONE ROOF 2026 booth rental process?\nOur booth rental process includes design consultation\, production\, and on-site installation\, ensuring a seamless experience.\nWhen are the event hours for RDH UNDER ONE ROOF 2026?\nThe event will occur from November 15–17\, 9:00 AM–5:00 PM.\nWhat booth sizes are recommended for exhibitors in the dental category?\nA 10×20 booth is recommended for established brands\, whereas a 10×10 is fitting for newcomers to maximize their reach.\nWhy are aluminum booths preferred over wooden ones?\nAluminum booths are lightweight\, durable\, and easier to maintain compared to wooden structures\, which enhances mobility and longevity.\nWhat can I expect from the RDH UNDER ONE ROOF 2026 event?\nExpect a bustling environment filled with opportunities to network with industry professionals and showcase groundbreaking products.\nHow can Snap Exhibitions help make everything perfect about your booth?\nWe provide end-to-end support from design to dismantling\, ensuring your booth stands out and represents your brand effectively.\n\nIn conclusion\, partnering with us for your RDH UNDER ONE ROOF 2026 booth rental sets you up for success. For more information and to get started\, contact our team today!
URL:https://magiclasvegas2026.com/event/rdh-under-one-roof-2026/
CATEGORIES:Equipments & Technologies for Medical and Surgery,Health Professionals,Laboratory Equipment & Technologies,Stomatology - Dentistry
END:VEVENT
BEGIN:VEVENT
DTSTART;TZID=UTC:20270519T090000
DTEND;TZID=UTC:20270520T235959
DTSTAMP:20260425T143009
CREATED:20251102T163917Z
LAST-MODIFIED:20251102T163917Z
UID:25866-1810717200-1810857599@magiclasvegas2026.com
SUMMARY:MD&M EAST 2027
DESCRIPTION:MD&M EAST 2027 booth rental — Ultimate Exhibitor Guide & Custom Booth Options\nAbout MD&M EAST 2027\nVenue & Location\nNew York NY: Our Services\nCustom Booth Models\nFAQ\nAbout MD&M EAST 2027\nMD&M EAST 2027 booth rental solutions are essential for exhibitors aiming to make a significant impression in the medical device sector. This notable event\, known for its connection to medical device development professionals\, showcases cutting-edge technologies and innovations that drive the industry forward. With a focus on Equipments & Technologies for Medical and Surgery\, Laboratory Equipment & Technologies\, Health Professionals\, Rapid Prototyping & Additive Manufacturing\, attendees can anticipate valuable education and partnership opportunities. \nKey Details:September 12–14\, 2027\, 9:00 AM–5:00 PMJacob K. Javits Convention Center\, 655 West 34th Street\, New York\, NY\, USA.Event Website \nVenue & Location\nThe event will take place at the Jacob K. Javits Convention Center\, located at 655 West 34th Street\, New York\, NY\, USA. While specific move-in details aren’t provided\, exhibitors can expect standard logistics such as dock access and general setup windows to enable a smooth experience. If you have any inquiries\, feel free to reach out via phone. \nNew York NY: Our Services\nWe DESIGN\, PRODUCE\, INSTALL & DISMANTLE turnkey booth rentals in New York NY. Our offerings encompass concept and design stages through to modular frames and branded SEG graphics\, including reception and storage areas\, TV mounts\, and on-site installation and dismantling. \nCustom Booth Models\nExplore our various booth sizes tailored for the medical and technology sectors. Popular footprints include: \n\n10×10: Ideal for focused presentations and small demo spaces.\n10×20: Provides ample room for interaction\, showcasing multiple products.\n20×20: Works well for larger displays\, maximizing attendee engagement.\n\nFor more options\, check out our Snap Exhibitions Custom Booth Models. We are committed to providing full-service exhibit support for your fantastic booth experience. Don’t hesitate to contact our team for more details. \nFAQ\nWhat is MD&M EAST 2027 booth rental?MD&M EAST 2027 booth rental entails customizable booth solutions designed for exhibitors looking to showcase their innovations effectively. \nWhen are the event hours for MD&M EAST 2027?The event will take place from September 12 to 14\, 2027\, daily from 9:00 AM to 5:00 PM. \nWhat booth sizes do you recommend for Equipments & Technologies sectors?We recommend 10×10 or 10×20 booths for compact displays\, while 20×20 is optimal for larger presentations. \nWhy is an aluminum booth better than wood?Aluminum booths are lighter\, more durable\, and provide a sleek look\, making them easier to transport and set up compared to traditional wood options. \nWhat services can I expect from Snap Exhibitions in New York?We offer comprehensive exhibition services\, including booth design\, installation\, and dismantling tailored to your specific needs. \nWhat is the significance of MD&M EAST in the industry?MD&M EAST connects key players in the medical device field\, fostering partnerships and exploring new technologies vital for industry growth. \nHow can Snap Exhibitions help me make everything perfect about my MD&M EAST 2027 booth rental?We specialize in providing turnkey booth solutions\, ensuring every detail is managed expertly\, from design to execution\, empowering your exhibition success. \nTo explore your options for MD&M EAST 2027 booth rental and to get in touch with our expert team\, visit our contact page. We look forward to collaborating with you for a successful exhibition experience!
URL:https://magiclasvegas2026.com/event/mdm-east-2027/
CATEGORIES:Equipments & Technologies for Medical and Surgery,Health Professionals,Laboratory Equipment & Technologies,Rapid Prototyping & Additive Manufacturing
END:VEVENT
END:VCALENDAR