BEGIN:VCALENDAR
VERSION:2.0
PRODID:-//MAGIC LAS VEGAS 2026— Local Booth Builder &amp; Rentals - ECPv6.15.20//NONSGML v1.0//EN
CALSCALE:GREGORIAN
METHOD:PUBLISH
X-WR-CALNAME:MAGIC LAS VEGAS 2026— Local Booth Builder &amp; Rentals
X-ORIGINAL-URL:https://magiclasvegas2026.com
X-WR-CALDESC:Events for MAGIC LAS VEGAS 2026— Local Booth Builder &amp; Rentals
REFRESH-INTERVAL;VALUE=DURATION:PT1H
X-Robots-Tag:noindex
X-PUBLISHED-TTL:PT1H
BEGIN:VTIMEZONE
TZID:UTC
BEGIN:STANDARD
TZOFFSETFROM:+0000
TZOFFSETTO:+0000
TZNAME:UTC
DTSTART:20270101T000000
END:STANDARD
END:VTIMEZONE
BEGIN:VEVENT
DTSTART;TZID=UTC:20280926T090000
DTEND;TZID=UTC:20280928T235959
DTSTAMP:20260426T013909
CREATED:20251102T170610Z
LAST-MODIFIED:20251102T170610Z
UID:25929-1853571600-1853798399@magiclasvegas2026.com
SUMMARY:MINEXPO INTERNATIONAL 2028
DESCRIPTION:MINEXPO INTERNATIONAL 2028 Booth Rental — Essential Guide\nAbout MINEXPO INTERNATIONAL 2028\nMINEXPO INTERNATIONAL 2028 booth rental in Las Vegas is your gateway to showcase pivotal innovations in the mining sector. This extensive event will gather top-tier audiences interested in Mining Technologies\, Building Machinery\, and Decision Helping Tools & Management Services. Visitors and exhibitors alike can look forward to insights on the latest technologies\, equipment\, and services that drive the industry forward\, from exploration to safety. \n\nKey Details: Sep 19–21\, 9:00 AM–5:00 PM\, Las Vegas Convention Center\, 3150 Paradise Road\, Las Vegas\, NV 89109\, United States\nEvent Website: MINEXPO International\n\nWith over 1800 exhibitors\, the event promises an array of solutions tailored to meet diverse mining needs\, making connections at MINEXPO essential for anyone in the industry. \nVenue & Location\nThe venue for MINEXPO INTERNATIONAL 2028 is the Las Vegas Convention Center\, located at 3150 Paradise Road\, Las Vegas\, NV 89109\, United States. This well-equipped location ensures easy access and central logistics for all exhibitors and attendees. \nLas Vegas NV: Our Services\nAt Snap Exhibitions\, we DESIGN\, PRODUCE\, INSTALL & DISMANTLE turnkey booth rentals in Las Vegas NV. Our comprehensive services encompass concept design\, modular frame solutions\, branded SEG graphics\, and provision for reception/storage and AV mounts. We’re committed to providing everything you need for a successful exhibition experience in this city. \nCustom Booth Models\nExplore our range of popular footprints designed to fit the needs of exhibitors in categories like Mining Technologies and Risk Management. Our \n\nSnap Exhibitions Custom Booth Models are tailored to make your presence impactful.\nWe offer full-service exhibit support\, from initial design to the end of the event.\nReady to make your display perfect? Contact our team today!\n\nChoose from various booth sizes\, such as 10×10\, 10×20\, and 20×20. Each footprint is optimized to enhance visibility and engagement at MINEXPO\, ensuring that you make the most of your exhibition space. \nFAQ\nQ: What is MINEXPO INTERNATIONAL 2028 booth rental about?A: MINEXPO INTERNATIONAL 2028 booth rental provides exhibitors the opportunity to showcase the latest trends and technologies in the mining industry. \nQ: What are the event hours and dates for MINEXPO?A: The event will run from September 19 to 21\, daily from 9:00 AM to 5:00 PM. \nQ: What booth sizes are recommended for Mining Technologies?A: Booth sizes such as 10×20 provide ample space for showcasing equipment and attracting visitors in the Mining Technologies sector. \nQ: Why is an aluminum booth better than wood?A: Aluminum booths are lighter\, more durable\, and easier to transport than traditional wooden ones. \nQ: How can I get to Las Vegas for MINEXPO?A: Las Vegas is well-connected through various transportation options including the airport\, making it easy to reach the convention center. \nQ: What can I expect from MINEXPO INTERNATIONAL 2028?A: Expect to engage with the leading exhibitors showcasing innovations in mining technology and services. \nQ: How can Snap Exhibitions help me make everything perfect for my booth?A: We handle all aspects of booth rental\, including design\, setup\, and dismantling\, ensuring a seamless experience for exhibitors. \nWe invite you to explore MINEXPO INTERNATIONAL 2028 booth rental for a noteworthy presence in the industry. Don’t miss the chance to engage at this significant event where we offer tailored booth rental options to elevate your exhibition experience! For more information\, contact us today.
URL:https://magiclasvegas2026.com/event/minexpo-international-2028/
CATEGORIES:Building Machinery,Decision Helping Tools & Management Services,Mining Technologies,Security - Risk Management
END:VEVENT
END:VCALENDAR