BEGIN:VCALENDAR
VERSION:2.0
PRODID:-//MAGIC LAS VEGAS 2026— Local Booth Builder &amp; Rentals - ECPv6.15.13.1//NONSGML v1.0//EN
CALSCALE:GREGORIAN
METHOD:PUBLISH
X-WR-CALNAME:MAGIC LAS VEGAS 2026— Local Booth Builder &amp; Rentals
X-ORIGINAL-URL:https://magiclasvegas2026.com
X-WR-CALDESC:Events for MAGIC LAS VEGAS 2026— Local Booth Builder &amp; Rentals
REFRESH-INTERVAL;VALUE=DURATION:PT1H
X-Robots-Tag:noindex
X-PUBLISHED-TTL:PT1H
BEGIN:VTIMEZONE
TZID:UTC
BEGIN:STANDARD
TZOFFSETFROM:+0000
TZOFFSETTO:+0000
TZNAME:UTC
DTSTART:20250101T000000
END:STANDARD
END:VTIMEZONE
BEGIN:VEVENT
DTSTART;TZID=UTC:20260102T090000
DTEND;TZID=UTC:20260104T235959
DTSTAMP:20260421T212009
CREATED:20251102T183249Z
LAST-MODIFIED:20251102T183249Z
UID:26115-1767344400-1767571199@magiclasvegas2026.com
SUMMARY:COLUMBUS BUILDING & RENOVATION EXPO 2026
DESCRIPTION:COLUMBUS BUILDING & RENOVATION EXPO 2026 — Exhibitor Guide & Premium Options\nAbout COLUMBUS BUILDING & RENOVATION EXPO 2026\nVenue & Location\nColumbus\, OH: Our Services\nCustom Booth Models\nFAQ\nWelcome to COLUMBUS BUILDING & RENOVATION EXPO 2026\, the premier destination for homeowners and professionals in the construction\, remodeling\, and design sectors. This exciting expo brings together everything from kitchens and baths to gardening and textiles\, showcasing the latest trends in home renovation. With numerous exhibitors and innovative displays\, visitors will find inspiration and solutions for every home project. \nKey Details: \n\nDate: Nov 1–3\, 9:00 AM–5:00 PM\nLocation: Ohio Expo Center & State Fair\nAddress: 717 East 17th Avenue\, Columbus\, OH 43211\, USA\nCountry: United States\n\nIf you’re looking for insights into the latest trends in Home Show\, Building & Construction\, renovation solutions\, and more\, this expo is not to be missed. \nCOLUMBUS BUILDING & RENOVATION EXPO 2026: Venue & Location\nThe event will be hosted at the Ohio Expo Center & State Fair\, 717 East 17th Avenue\, Columbus\, OH 43211\, USA. This venue is equipped with essential logistics for move-in and setup\, ensuring a seamless experience for exhibitors. \nColumbus\, OH: Our Services\nAt Snap Exhibitions\, we DESIGN\, PRODUCE\, INSTALL & DISMANTLE turnkey booth rentals in Columbus\, OH. Our scope includes concept and design\, modular frames\, branded SEG graphics\, reception and storage areas\, TV mounts\, and on-site installation and dismantle services. Our team is committed to making your exhibition experience as stress-free and successful as possible. \nCustom Booth Models\nWhether you need a Snap Exhibitions Custom Booth Models for a standout presentation or full-service exhibit support\, we offer a range of popular footprints including 10×10\, 10×20\, and 20×20 booths. These dimensions cater to different exhibitor needs and fit perfectly within the home-related sectors showcased at the event. \nFor tailored solutions\, contact our team today! \nFAQ\n\nWhat is COLUMBUS BUILDING & RENOVATION EXPO 2026?This expo showcases the latest in home renovation and construction\, featuring innovators in kitchens\, baths\, and more.\nWhat are the event hours?The expo will run from Nov 1–3\, 9:00 AM to 5:00 PM each day.\nWhat booth sizes are recommended for Home Show exhibitors?We recommend sizes such as 10×10 for smaller displays or 20×20 for larger exhibitions.\nWhy is an aluminum booth better than wood?Aluminum is lighter\, more durable\, and allows for quicker assembly and disassembly compared to traditional wood structures.\nWhat attractions are unique to Columbus?Columbus offers a vibrant arts scene\, including beautiful parks and cultural institutions worth exploring during your visit.\nHow can Snap Exhibitions help ensure my booth is perfect?We offer comprehensive services—from initial design through to installation—ensuring every detail is covered for a successful event.\n\nBy choosing our services for COLUMBUS BUILDING & RENOVATION EXPO 2026 booth rental\, you gain access to an incredible support system. Let us help you create an impactful presence at this key industry event. Contact us today!
URL:https://magiclasvegas2026.com/event/columbus-building-renovation-expo-2026/
CATEGORIES:Building & Construction,Decoration,Do It Yourself,Furniture,Gardening,Home & Office Design,Home Show,Kitchen & Bathroom,Lighting,Renewal - Renovations,Textiles - Fabrics for Decoration
END:VEVENT
BEGIN:VEVENT
DTSTART;TZID=UTC:20260109T090000
DTEND;TZID=UTC:20260111T235959
DTSTAMP:20260421T212009
CREATED:20251031T192744Z
LAST-MODIFIED:20251031T192744Z
UID:25704-1767949200-1768175999@magiclasvegas2026.com
SUMMARY:CHARLESTON BUILD\, REMODEL & LANDSCAPE EXPO 2026
DESCRIPTION:CHARLESTON BUILD\, REMODEL & LANDSCAPE EXPO 2026 — Exhibitor Guide & Premium Options\nAbout CHARLESTON BUILD\, REMODEL & LANDSCAPE EXPO 2026\nVenue & Location\nCHARLESTON SC: Our Services\nCustom Booth Models\nFAQ\nWelcome to the CHARLESTON BUILD\, REMODEL & LANDSCAPE EXPO 2026\, your ultimate destination for innovative ideas and solutions in home building and remodeling industries. This year’s expo promises to showcase the latest trends\, unique offerings\, and valuable insights for both visitors and exhibitors. Participants will gain access to a variety of resources and networking opportunities aimed at enhancing their projects and businesses. \nKey Details: Jan 16–18\, 2026 (10:00 AM–6:00 PM)\, Exchange Park Fairgrounds\, 9850 Hwy 78\, Ladson\, SC 29456\, USA. \nIndustries & Audience: Renewal – Renovations\, Home Show\, Building & Construction\, Decoration\, Home & Office Design\, Furniture\, Lighting\, Gardening\, Do It Yourself\, Kitchen & Bathroom\, Textiles – Fabrics for Decoration. \nVenue & Location\nJoin us at the Exchange Park Fairgrounds\, conveniently located at 9850 Hwy 78\, Ladson\, SC 29456\, USA. The venue offers ample space for exhibits\, making it ideal for showcasing innovative products and services. Attendees can enjoy easy access to the venue with ample parking options available. \nCHARLESTON SC: Our Services\nIn CHARLESTON SC\, we DESIGN\, PRODUCE\, INSTALL & DISMANTLE turnkey booth rentals. Our team specializes in complete solutions that include concept/design\, modular frames\, branded SEG graphics\, reception/storage\, and TV mounts\, ensuring a seamless experience for our clients. \nCustom Booth Models\nWe offer a range of popular booth footprints to suit your needs. Our Snap Exhibitions Custom Booth Models include: \n\n10×10: Perfect for those in the early stages of displaying products or insights.\n10×20: A versatile option that accommodates more elaborate exhibits and displays.\n20×20: Ideal for maximizing visibility and drawing in larger audiences.\n\nEach model is designed to meet the essential needs of renewal and renovations sectors\, providing exhibitors with an impactful experience. \nFor comprehensive assistance\, check out our full-service exhibit support. For inquiries or to get started\, contact our team today! \nFAQ\nQ1: What is CHARLESTON BUILD\, REMODEL & LANDSCAPE EXPO 2026?A1: CHARLESTON BUILD\, REMODEL & LANDSCAPE EXPO 2026 is a premier event showcasing the latest innovations in home building\, remodeling\, and landscaping. \nQ2: What are the event hours and dates?A2: The expo runs from Jan 16 to 18\, 2026\, from 10:00 AM to 6:00 PM. \nQ3: What booth sizes are recommended for the renewal and renovations sectors?A3: We recommend 10×10\, 10×20\, and 20×20 booth sizes to cater to varying exhibitor needs and foot traffic. \nQ4: Why is an aluminum booth better than wood?A4: Aluminum booths tend to be lighter\, more durable\, and easier to transport than traditional wood booths\, making them a preferred choice for traveling exhibits. \nQ5: What services do you offer in CHARLESTON?A5: We provide a full suite of turnkey booth rental services\, including design\, production\, installation\, and dismantling. \nQ6: How can SNAP EXHIBITIONS help ensure my booth is perfect?A6: We collaborate with you from design to setup\, ensuring that every detail meets your specifications and exceeds your expectations. \nQ7: How do I find more information about the event?A7: For more details\, please visit the official event website or contact us for personalized assistance. \nIn summary\, CHARLESTON BUILD\, REMODEL & LANDSCAPE EXPO 2026 is your chance to explore the latest in home improvement and construction. We encourage you to reach out to contact our team and secure your booth rental today!
URL:https://magiclasvegas2026.com/event/charleston-build-remodel-landscape-expo-2026/
CATEGORIES:Building & Construction,Decoration,Do It Yourself,Furniture,Gardening,Home & Office Design,Home Show,Kitchen & Bathroom,Lighting,Renewal - Renovations,Textiles - Fabrics for Decoration
END:VEVENT
BEGIN:VEVENT
DTSTART;TZID=UTC:20260116T090000
DTEND;TZID=UTC:20260118T235959
DTSTAMP:20260421T212009
CREATED:20251031T193213Z
LAST-MODIFIED:20251031T193213Z
UID:25716-1768554000-1768780799@magiclasvegas2026.com
SUMMARY:FOX CITIES HOME & GARDEN SHOW 2026
DESCRIPTION:FOX CITIES HOME & GARDEN SHOW 2026 booth rental — Premium Exhibitor Guide & Custom Booth Options\nAbout FOX CITIES HOME & GARDEN SHOW 2026\nFOX CITIES HOME & GARDEN SHOW 2026 booth rental is your ticket to engaging with diverse audiences interested in home renovations and gardening. This show not only connects homeowners with knowledgeable remodeling experts but also showcases innovative products and services designed to enhance living spaces. With a prime focus on categories such as Building & Construction\, Home Shows\, Renewal – Renovations\, and more\, attendees will find invaluable resources to aid them in their projects. \nKey Details: Mar 16–18\, 2026\, 10:00 AM–5:00 PM\, Fox Cities Exhibition Center\, 355 W Lawrence St\, Appleton\, WI\, United States. \nJoin us at the FOX CITIES HOME & GARDEN SHOW 2026 to explore architectural design trends while networking with industry leaders. Industries & Audience: Building & Construction\, Home Show\, Renewal – Renovations\, Gardening\, Architecture\, Kitchen & Bathroom\, Swimming Pool\, Sauna & Spa\, Textiles – Fabrics for Decoration. \nVenue & Location\nThe event will be hosted at the Fox Cities Exhibition Center\, located at 355 W Lawrence St\, Appleton\, WI\, United States. This centrally accessible venue provides exhibitors with ample opportunity to showcase their products and services effectively. Attendees can expect convenient logistics including dock access and spacious move-in windows. \nIf you have questions\, feel free to call us at the contact number provided during registration. \nAppleton WI: Our Services\nWe DESIGN\, PRODUCE\, INSTALL & DISMANTLE turnkey booth rentals in this city. Our services cover every aspect\, from concept/design to modular frames\, branded SEG graphics\, and on-site installation & dismantling. \nCustom Booth Models\nWe offer a variety of popular booth sizes to fit the needs of our clients attending the show. These include: \n\n10×10: Ideal for direct engagement with potential customers without being overwhelming.\n10×20: Perfect for those looking to make a bigger impact while providing more information space.\n20×20: Best suited for larger brands wanting to dominate their presence.\n\nCheck out our Snap Exhibitions Custom Booth Models for more options\, and learn about our full-service exhibit support. For inquiries\, contact our team today! \nFAQ\n\nWhat does FOX CITIES HOME & GARDEN SHOW 2026 booth rental include? Our booth rental includes all services from design to installation.\nWhat are the event hours and dates? The event runs from Mar 16–18\, 2026\, from 10:00 AM to 5:00 PM.\nWhat booth sizes do you recommend for the home and garden sector? We suggest sizes like 10×10 for smaller displays and 10×20 or 20×20 for larger brands.\nWhy is an aluminum booth better than wood? Aluminum offers enhanced durability and a more modern appearance compared to wood.\nWhat makes Appleton a great city for this event? Appleton offers a vibrant community and dedicated audience for home improvement professionals.\nWhat can we expect at FOX CITIES HOME & GARDEN SHOW 2026? Expect a wide array of innovative products and expert advice tailored for homeowners.\nHow can SNAP EXHIBITIONS help make everything perfect about their booth? We provide end-to-end solutions for a seamless and impactful exhibition experience.\n\nDon’t miss the chance to secure your FOX CITIES HOME & GARDEN SHOW 2026 booth rental today and elevate your event experience. For more information\, contact our team now!
URL:https://magiclasvegas2026.com/event/fox-cities-home-garden-show-2026/
CATEGORIES:Architecture,Building & Construction,Gardening,Home Show,Kitchen & Bathroom,Renewal - Renovations,Sauna & Spa,Swimming Pool,Textiles - Fabrics for Decoration
END:VEVENT
BEGIN:VEVENT
DTSTART;TZID=UTC:20260116T090000
DTEND;TZID=UTC:20260118T235959
DTSTAMP:20260421T212009
CREATED:20251102T082910Z
LAST-MODIFIED:20251102T082910Z
UID:25765-1768554000-1768780799@magiclasvegas2026.com
SUMMARY:GREENVILLE REMODELING EXPO 2026
DESCRIPTION:GREENVILLE REMODELING EXPO 2026 Booth Rental — Ultimate Guide\nAbout GREENVILLE REMODELING EXPO 2026\nGREENVILLE REMODELING EXPO 2026 booth rental offers a unique opportunity for homeowners and exhibitors alike. This comprehensive home show will connect attendees with skilled remodeling experts in a variety of industries. Attendees can expect to gain valuable insights into renovations\, home design\, and the latest products in the home improvement sector. \n\nKey Details:\nDates: Sep 14–15\, 2026\, 10:00 AM–6:00 PM\nLocation: Greenville Convention Center\nAddress: 303 Greenville Blvd SW\, Greenville\, NC 27834\, USA\nCountry: United States\n\nIndustries & Audience: Home Show\, Renovations\, Design\, Construction \nVenue & Location\nYour event will take place at the Greenville Convention Center\, located at 303 Greenville Blvd SW\, Greenville\, NC 27834\, USA. This facility provides easy access for exhibitors and attendees\, making it a premier choice for hosting your event. General logistics will include move-in windows and dock access for convenient setup. \nIf you have questions\, feel free to call. \nGreenville NC: Our Services\nIn Greenville\, NC\, we DESIGN\, PRODUCE\, INSTALL & DISMANTLE turnkey booth rentals. Our services cover everything from concept design to modular frames\, branded SEG graphics\, reception/storage units\, and TV mounts. Rest assured\, we take care of all your booth needs in this city. \nCustom Booth Models\nWe offer a variety of popular footprints that suit the needs of exhibitors at the Greenville Remodeling Expo 2026\, including: \n\n10×10: Ideal for smaller businesses looking to make a big impression.\n10×20: Perfect for brands needing a bit more space to showcase multiple products.\n20×20: Offers ample space for larger displays and interactions.\n\nAll these options will provide an engaging experience for visitors from various sectors. For more about our Custom Booth Models and full-service exhibit support\, explore our website or contact our team. \nFAQ\nQ: What are the booth rental options for GREENVILLE REMODELING EXPO 2026? \nA: We provide various booth sizes tailored to exhibitor needs. \nQ: When is GREENVILLE REMODELING EXPO 2026? \nA: The event runs from Sep 14–15\, 2026\, 10:00 AM–6:00 PM. \nQ: What booth sizes are recommended for Home Show exhibitors? \nA: We recommend 10×10 for new exhibitors\, 10×20 for established brands\, and 20×20 for larger displays. \nQ: Why is aluminum a better choice than wood for booths? \nA: Aluminum is lightweight\, durable\, and offers a more modern aesthetic than wood\, making it easier to transport and set up. \nQ: What makes Greenville an ideal location for this expo? \nA: Greenville boasts a vibrant community and growing interest in home improvement\, making it a prime location for this expo. \nQ: How can SNAP EXHIBITIONS ensure a perfect booth experience? \nA: We provide comprehensive support from design to dismantling\, making the process seamless and stress-free for exhibitors. \nIn conclusion\, if you’re looking for GREENVILLE REMODELING EXPO 2026 booth rental\, we invite you to contact our team today for a customized solution tailored to your needs!
URL:https://magiclasvegas2026.com/event/greenville-remodeling-expo-2026/
CATEGORIES:Building & Construction,Decoration,Do It Yourself,Furniture,Gardening,Home & Office Design,Home Show,Kitchen & Bathroom,Lighting,Renewal - Renovations,Textiles - Fabrics for Decoration
END:VEVENT
BEGIN:VEVENT
DTSTART;TZID=UTC:20260116T090000
DTEND;TZID=UTC:20260118T235959
DTSTAMP:20260421T212009
CREATED:20251102T161350Z
LAST-MODIFIED:20251102T161350Z
UID:25811-1768554000-1768780799@magiclasvegas2026.com
SUMMARY:MINNEAPOLIS HOME BUILDING 2026
DESCRIPTION:MINNEAPOLIS HOME BUILDING 2026 Booth Rental — Ultimate Guide\nAbout MINNEAPOLIS HOME BUILDING 2026\nVenue & Location\nMinneapolis MN: Our Services\nCustom Booth Models\nFAQ\nAbout MINNEAPOLIS HOME BUILDING 2026\nMINNEAPOLIS HOME BUILDING 2026 booth rental is an essential opportunity for anyone looking to exhibit their products and services in the home construction and renovation sectors. This comprehensive home show brings together homeowners and the most knowledgeable remodeling and building experts in the Minneapolis area. Attendees can expect to gain valuable insights\, product showcases\, and connections with industry leaders. \nKey Details: Jan 13–15\, 2026\, 9:00 AM–5:00 PM\, Hyatt Regency Minneapolis\, 1300 Nicollet Mall\, Minneapolis\, Minnesota 55403\, United States. \nThe industries & audience include: Home Show\, Renewal – Renovations\, Building & Construction\, Architecture\, Decoration\, Home & Office Design\, Furniture\, Lighting\, Kitchen & Bathroom\, Gardening\, Textiles – Fabrics for Decoration. \nVenue & Location\nThe event takes place at the Hyatt Regency Minneapolis\, located at 1300 Nicollet Mall\, Minneapolis\, Minnesota 55403\, United States. The venue’s layout facilitates smooth logistics for move-in and dock access\, providing an optimal experience for both exhibitors and attendees. \nMinneapolis MN: Our Services\nWe at Snap Exhibitions specialize in designing\, producing\, installing\, and dismantling turnkey booth rentals in Minneapolis MN. Our services cover everything from concept and design to modular frames\, branded SEG graphics\, on-site installation and dismantling. We ensure a seamless experience for exhibitors in this city. \nCustom Booth Models\nOur popular booth footprints—such as 10×10\, 10×20\, and 20×20—are perfect for attracting attendees in the Home Show sectors. They are designed for functionality and aesthetic appeal\, helping exhibitors leave a lasting impression. \nAdditionally\, we offer full-service exhibit support to ensure your presence at the event is nothing short of exceptional. \nIf you have questions\, feel free to contact our team for assistance with your booth rental needs. \nFAQ\nQ: What is MINNEAPOLIS HOME BUILDING 2026 booth rental?A: MINNEAPOLIS HOME BUILDING 2026 booth rental is a service that provides exhibitors with fully furnished and designed booths specifically tailored for the home building industry. \nQ: What are the event hours for MINNEAPOLIS HOME BUILDING 2026?A: The event will be held from January 13–15\, 2026\, from 9:00 AM to 5:00 PM each day. \nQ: What booth sizes are recommended for the Home Show?A: Booth sizes like 10×10\, 10×20\, and 20×20 are popular as they cater well to the diverse needs of exhibitors and attendees in the building and renovation sectors. \nQ: Why is an aluminum booth better than wood?A: Aluminum booths are lighter\, more durable\, and more flexible in design compared to wood\, making them easier to transport and set up. \nQ: What services do you offer in Minneapolis?A: We provide comprehensive booth rental services\, including design\, installation\, and dismantling for all exhibitors. \nQ: How can Snap Exhibitions help make everything perfect about their booth?A: At Snap Exhibitions\, we handle all aspects of exhibit preparation and execution to ensure your booth attracts attention and meets your business goals. \nFor any further inquiries about MINNEAPOLIS HOME BUILDING 2026 booth rental or to explore our custom solutions\, please don’t hesitate to contact us.
URL:https://magiclasvegas2026.com/event/minneapolis-home-building-2026/
CATEGORIES:Architecture,Building & Construction,Decoration,Furniture,Gardening,Home & Office Design,Home Show,Kitchen & Bathroom,Lighting,Renewal - Renovations,Textiles - Fabrics for Decoration
END:VEVENT
BEGIN:VEVENT
DTSTART;TZID=UTC:20260116T090000
DTEND;TZID=UTC:20260118T235959
DTSTAMP:20260421T212009
CREATED:20251102T182858Z
LAST-MODIFIED:20251102T182858Z
UID:26106-1768554000-1768780799@magiclasvegas2026.com
SUMMARY:COLORADO SPRINGS HOME BUILDING & REMODELING SHOW 2026
DESCRIPTION:COLORADO SPRINGS HOME BUILDING & REMODELING SHOW 2026 Booth Rental — Bold\nAbout COLORADO SPRINGS HOME BUILDING & REMODELING SHOW 2026\nVenue & Location\nColorado Springs CO: Our Services\nCustom Booth Models\nFAQ\nCOLORADO SPRINGS HOME BUILDING & REMODELING SHOW 2026 — Exhibitor Guide & Custom Booth Options\nCOLORADO SPRINGS HOME BUILDING & REMODELING SHOW 2026 booth rental is your gateway to connecting with key industry leaders in home improvement and design. This show is a must-attend event for Colorado Springs homeowners and professionals seeking innovative solutions in building and remodeling. The show serves as a platform for visitors and exhibitors to explore emerging trends\, engage one-on-one with experts\, and discover the latest products in home improvement. \nKey Details:September 12–14\, 9:00 AM–5:00 PMNorris-Penrose Event Center1045 Lower Gold Camp Rd\, Colorado Springs\, CO 80906\, USA \nThis event highlights industries such as Home Show\, Building & Construction\, Renewal – Renovations\, Decoration\, Home & Office Design\, Furniture\, Lighting\, Gardening\, Do It Yourself\, Kitchen & Bathroom\, Textiles – Fabrics for Decoration. Don’t miss this opportunity to connect with top experts! \nVenue & Location\nThe Norris-Penrose Event Center at 1045 Lower Gold Camp Rd\, Colorado Springs\, CO 80906\, USA\, is poised to host this dazzling showcase. Attendees can expect a seamless experience with easy access and supportive logistics for exhibitors\, including dedicated move-in windows and dock access. \nIf you wish to reach us\, feel free to call the venue directly. \nColorado Springs CO: Our Services\nWe DESIGN\, PRODUCE\, INSTALL & DISMANTLE turnkey booth rentals in Colorado Springs CO. Our comprehensive offerings include concept and design development\, modular frames\, branded SEG graphics\, reception areas\, storage solutions\, and equipment setup. We pride ourselves on delivering a complete service that meets your unique needs. \nCustom Booth Models\nAt Snap Exhibitions\, we offer a variety of popular booth sizes\, including: \n\n10×10 Footprint – Perfect for individual presentations and small displays.\n10×20 Footprint – Ideal for showcasing a blend of products and strong branding.\n20×20 Footprint – Excellent for larger teams and comprehensive presentations.\n\nOur full-service exhibit support ensures a hassle-free experience from start to finish\, enhancing your brand’s visibility at the show. \nFAQ\nQ: What is the COLORADO SPRINGS HOME BUILDING & REMODELING SHOW 2026 booth rental process?A: Our process is straightforward; contact us to discuss your needs\, and we will guide you through the options available. \nQ: What are the event hours and dates for the show?A: The event runs from September 12–14\, 9:00 AM to 5:00 PM daily. \nQ: What booth sizes do you recommend for the Home Show\, Building & Construction sector?A: Depending on your needs\, we typically recommend 10×10 for products and 20×20 for broader presentations. \nQ: Why is an aluminum booth better than one made of wood?A: Aluminum structures are lighter\, more durable\, and provide superior design flexibility\, making them an outstanding choice for dynamic presentations. \nQ: What unique services does Colorado Springs offer for exhibitors?A: Colorado Springs provides not just a bustling environment for exhibitors but also access to local homeowners eager to engage with your products. \nQ: How can SNAP EXHIBITIONS help make everything perfect about my booth?A: We specialize in turnkey booth rentals\, ensuring complete design\, build\, and logistics\, making your experience seamless and effective. \nWe invite you to explore our offerings and consider COLORADO SPRINGS HOME BUILDING & REMODELING SHOW 2026 booth rental for your next event. To learn more and secure your space\, contact our team today!
URL:https://magiclasvegas2026.com/event/colorado-springs-home-building-remodeling-show-2026/
CATEGORIES:Building & Construction,Decoration,Do It Yourself,Furniture,Gardening,Home & Office Design,Home Show,Kitchen & Bathroom,Lighting,Renewal - Renovations,Textiles - Fabrics for Decoration
END:VEVENT
END:VCALENDAR