BEGIN:VCALENDAR
VERSION:2.0
PRODID:-//MAGIC LAS VEGAS 2026— Local Booth Builder &amp; Rentals - ECPv6.15.13.1//NONSGML v1.0//EN
CALSCALE:GREGORIAN
METHOD:PUBLISH
X-ORIGINAL-URL:https://magiclasvegas2026.com
X-WR-CALDESC:Events for MAGIC LAS VEGAS 2026— Local Booth Builder &amp; Rentals
REFRESH-INTERVAL;VALUE=DURATION:PT1H
X-Robots-Tag:noindex
X-PUBLISHED-TTL:PT1H
BEGIN:VTIMEZONE
TZID:UTC
BEGIN:STANDARD
TZOFFSETFROM:+0000
TZOFFSETTO:+0000
TZNAME:UTC
DTSTART:20250101T000000
END:STANDARD
END:VTIMEZONE
BEGIN:VEVENT
DTSTART;TZID=UTC:20260327T090000
DTEND;TZID=UTC:20260329T235959
DTSTAMP:20260421T194409
CREATED:20251102T180427Z
LAST-MODIFIED:20251102T180427Z
UID:26054-1774602000-1774828799@magiclasvegas2026.com
SUMMARY:MADISON BUILD\, REMODEL & LANDSCAPE SHOW 2026
DESCRIPTION:MADISON BUILD\, REMODEL & LANDSCAPE SHOW 2026 — Exhibitor Guide & Ultimate Options\nAbout MADISON BUILD\, REMODEL & LANDSCAPE SHOW 2026\nVenue & Location\nMadison WI: Our Services\nCustom Booth Models\nFAQ\nAt Snap Exhibitions\, we offer a range of booth rental options for participants at the MADISON BUILD\, REMODEL & LANDSCAPE SHOW 2026. This event connects exhibitors with leading remodelers\, builders\, and design professionals\, providing invaluable opportunities for networking and showcasing innovations in home design and renovations. Our booth rentals are designed to help maximize visibility and impact during this prominent event. \nKey Details: Nov 23–25\, 9:00 AM–5:00 PM\, Monona Terrace Convention Center\, One John Nolen Drive\, Madison\, WI\, United States. \nThe sectors represented at this show include Home Show\, Renewal – Renovations\, Gardening\, Do It Yourself\, Decoration\, Home & Office Design\, Furniture\, Lighting\, Building & Construction\, Kitchen & Bathroom\, and Textiles – Fabrics for Decoration. \nVenue & Location\nThe MADISON BUILD\, REMODEL & LANDSCAPE SHOW 2026 will take place at the prestigious Monona Terrace Convention Center\, located conveniently in Madison\, WI. The venue offers essential amenities such as spacious halls for showcasing your booth and easy access for move-in. While specific details such as dock access were not provided\, our team can guide you through logistics seamlessly. \nIf you need assistance\, feel free to reach out via phone. \nMADISON WI: Our Services\nIn Madison\, WI\, we DESIGN\, PRODUCE\, INSTALL & DISMANTLE turnkey booth rentals. Our offerings include concept design\, modular frames\, branded SEG graphics\, reception/storage areas\, and TV mounts\, providing comprehensive support for your exhibition needs. \nCustom Booth Models\nWe offer a variety of popular footprint options such as 10×10\, 10×20\, and 20×20 booths. These adaptable models are ideal for attendees in sectors like Home Show and Building & Construction\, effectively matching their display needs. Our Snap Exhibitions Custom Booth Models cater to diverse branding requirements\, ensuring your booth stands out. \nFor our clients\, we provide full-service exhibit support\, covering everything from design to installation\, ensuring a stress-free experience. Interested in our services? Contact our team to get started! \nFAQ\nQ: What are the benefits of the MADISON BUILD\, REMODEL & LANDSCAPE SHOW 2026 booth rental? \nA: Our booth rental at this trade show provides a dedicated space to showcase your offerings\, connect with industry professionals\, and enhance your brand visibility. \nQ: What are the event hours for the MADISON BUILD\, REMODEL & LANDSCAPE SHOW 2026? \nA: The show runs from Nov 23–25\, 9:00 AM–5:00 PM\, providing ample time for networking and exhibits. \nQ: What recommended booth sizes are suitable for sectors like Home Show? \nA: Typically\, sizes like 10×10 or 10×20 works best\, allowing enough space to showcase products effectively. \nQ: Why is an aluminum booth better than wood? \nA: Aluminum booths are more durable\, lightweight\, and easier to customize for various designs compared to wood. \nQ: What can I expect at the MADISON BUILD\, REMODEL & LANDSCAPE SHOW 2026? \nA: Attendees can expect extensive networking opportunities\, expert insights\, and an array of innovative products on display. \nQ: How can SNAP EXHIBITIONS help make everything perfect about their booth? \nA: We provide full support throughout the rental process\, ensuring seamless design\, installation\, and dismantle\, tailored to meet your needs. \nIn conclusion\, consider the MADISON BUILD\, REMODEL & LANDSCAPE SHOW 2026 booth rental for your next exhibition. With our commitment to quality and service\, we ensure your success at the event. Don’t hesitate to contact our team today!
URL:https://magiclasvegas2026.com/event/madison-build-remodel-landscape-show-2026/
CATEGORIES:Building & Construction,Decoration,Do It Yourself,Furniture,Gardening,Home & Office Design,Home Show,Kitchen & Bathroom,Lighting,Renewal - Renovations,Textiles - Fabrics for Decoration
END:VEVENT
BEGIN:VEVENT
DTSTART;TZID=UTC:20260327T090000
DTEND;TZID=UTC:20260329T235959
DTSTAMP:20260421T194409
CREATED:20251102T183325Z
LAST-MODIFIED:20251102T183325Z
UID:26116-1774602000-1774828799@magiclasvegas2026.com
SUMMARY:COLUMBUS HOME IMPROVEMENT SHOW 2026
DESCRIPTION:COLUMBUS HOME IMPROVEMENT SHOW 2026 Booth Rental — Premium Options\nAbout COLUMBUS HOME IMPROVEMENT SHOW 2026\nVenue & Location\nColumbus OH: Our Services\nCustom Booth Models\nFAQ\nCOLUMBUS HOME IMPROVEMENT SHOW 2026 booth rental is a premium choice for exhibitors looking to maximize their presence at this major event in Columbus\, Ohio. This extensive home show connects homeowners with skilled professionals across various sectors\, including renovation\, design\, and landscaping. Join us as we showcase the best in home improvement\, where you can present your industry-leading services to an eager audience. \nKey Details: September 24–26\, 2026\, 9:00 AM–5:00 PM\, Ohio Expo Center & State Fair\, 717 East 17th Avenue\, Columbus\, Ohio 43211\, United States. \nIndustries & Audience: Home Show\, Building & Construction\, Renewal – Renovations\, Decoration\, Home & Office Design\, Furniture\, Lighting\, Gardening\, Do It Yourself\, Kitchen & Bathroom\, Textiles – Fabrics for Decoration. \nCOLUMBUS HOME IMPROVEMENT SHOW 2026 Booth Rental Offers\nAs exhibitors\, our goals are to engage with potential clients and provide captivating displays that tell a story. COLUMBUS HOME IMPROVEMENT SHOW 2026 booth rental lets you do just that. Explore modern booth designs tailored to help you attract visitors and leave a lasting impression. \nVenue & Location\nThe event will be held at the Ohio Expo Center & State Fair\, located at 717 East 17th Avenue\, Columbus\, Ohio 43211\, United States. This centrally located venue offers excellent access for both exhibitors and attendees. While specifics about move-in times and dock access are not furnished\, rest assured the venue is well-equipped for events of this scale. \nFor inquiries\, you can reach out via phone\, and feel free to explore more about the venue at the [official website](https://www.ohiostatefair.com).  \nColumbus OH: Our Services\nIn Columbus\, we DESIGN\, PRODUCE\, INSTALL & DISMANTLE turnkey **booth rentals**. Our comprehensive services include concept design\, modular frames\, branded SEG graphics\, reception areas\, storage solutions\, and on-site installation and dismantling. This means you can focus on engaging with your audience while we take care of the setup and teardown of your exhibit. \nCustom Booth Models\nOur offerings include various popular booth sizes\, such as: \n\n10×10: Ideal for small businesses or start-ups showcasing essential offerings.\n10×20: A great fit for medium-sized exhibitors looking to create a more immersive experience.\n20×20: Perfect for large brands wanting to make a bold statement and capture significant attention.\n\nExplore our Snap Exhibitions Custom Booth Models for inspiration or visit our page for full-service exhibit support. \nFAQ\nQ: What can I expect from COLUMBUS HOME IMPROVEMENT SHOW 2026 booth rental?A: Our booth rental provides full support\, ensuring your display engages visitors effectively and professionally. \nQ: What are the event hours for COLUMBUS HOME IMPROVEMENT SHOW 2026?A: The event runs from September 24–26\, 2026\, from 9:00 AM to 5:00 PM each day. \nQ: What recommended booth sizes work best for home improvement events?A: Depending on your business size\, a 10×10 or 10×20 booth can be ideal for effective engagement. \nQ: Why is an aluminum booth better than wood?A: Aluminum booths offer greater durability and lighter weight\, allowing for easier transportation and setup. \nQ: What attractions can we find in Columbus during the event?A: Columbus offers rich culture\, dining options\, and outdoor activities that visitors can enjoy. \nQ: How can SNAP EXHIBITIONS help make everything perfect about my booth?A: We provide comprehensive support\, from design to installation\, ensuring your exhibit stands out and functions flawlessly. \nWith COLUMBUS HOME IMPROVEMENT SHOW 2026 booth rental\, you are making a choice for excellence! Don’t miss out—contact our team today to secure your spot and start planning for a successful event.
URL:https://magiclasvegas2026.com/event/columbus-home-improvement-show-2026/
CATEGORIES:Building & Construction,Decoration,Do It Yourself,Furniture,Gardening,Home & Office Design,Home Show,Kitchen & Bathroom,Lighting,Renewal - Renovations,Textiles - Fabrics for Decoration
END:VEVENT
END:VCALENDAR