BEGIN:VCALENDAR
VERSION:2.0
PRODID:-//MAGIC LAS VEGAS 2026— Local Booth Builder &amp; Rentals - ECPv6.15.20//NONSGML v1.0//EN
CALSCALE:GREGORIAN
METHOD:PUBLISH
X-ORIGINAL-URL:https://magiclasvegas2026.com
X-WR-CALDESC:Events for MAGIC LAS VEGAS 2026— Local Booth Builder &amp; Rentals
REFRESH-INTERVAL;VALUE=DURATION:PT1H
X-Robots-Tag:noindex
X-PUBLISHED-TTL:PT1H
BEGIN:VTIMEZONE
TZID:UTC
BEGIN:STANDARD
TZOFFSETFROM:+0000
TZOFFSETTO:+0000
TZNAME:UTC
DTSTART:20250101T000000
END:STANDARD
END:VTIMEZONE
BEGIN:VEVENT
DTSTART;TZID=UTC:20260418T090000
DTEND;TZID=UTC:20260422T235959
DTSTAMP:20260425T180639
CREATED:20251102T170056Z
LAST-MODIFIED:20251102T170056Z
UID:25918-1776502800-1776902399@magiclasvegas2026.com
SUMMARY:NAB SHOW 2026
DESCRIPTION:NAB SHOW 2026 booth rental — Impactful Exhibitor Guide & Custom Booth Options\nAbout NAB SHOW 2026\nNAB SHOW 2026 booth rental provides exhibitors with an exceptional platform at one of the most renowned events in broadcasting and entertainment. This essential show attracts over 46\,000 buyers who come to discover innovative products\, meet industry leaders\, and secure the latest solutions. From networking opportunities to insightful discussions\, NAB Show offers unparalleled experiences for everyone in the media and entertainment sectors. \nKey Details: April 24–27\, 2026\, 9:00 AM–5:00 PM\, Las Vegas Convention Center\, 3150 Paradise Road\, Las Vegas\, NV 89109\, United States. \nIndustries & Audience: Broadcasting\, Television & Entertainment\, Multimedia Technologies\, Video Games – Interactive Entertainment \nVenue & Location\nThe event will take place at the Las Vegas Convention Center\, conveniently located at 3150 Paradise Road\, Las Vegas\, NV 89109\, United States. Exhibitors can expect a modern venue with easy access and sufficient logistics for setup and dismantling. \nLas Vegas NV: Our Services\nWe DESIGN\, PRODUCE\, INSTALL & DISMANTLE turnkey booth rentals in Las Vegas NV. Our scope includes concept/design\, modular frames\, branded SEG graphics\, reception/storage\, and TV mount\, ensuring that your presence is impactful. \nCustom Booth Models\nOur popular booth footprints include 10×10\, 10×20\, and 20×20 models\, each tailored for maximum engagement in the broadcasting and entertainment sectors. Explore our Snap Exhibitions Custom Booth Models to see how we can enhance your exhibition experience. \nFor comprehensive exhibit support\, we provide full-service exhibit support tailored to your specific needs. Let us help you capture attention! To get started\, contact our team. \nFAQ\nWhat is NAB SHOW 2026 booth rental?  NAB SHOW 2026 booth rental offers tailored exhibit solutions for your brand\, designed to enhance visibility and engagement. \nWhat are the event hours and dates?  The event will be held from April 24 to April 27\, 2026\, from 9:00 AM to 5:00 PM. \nWhat booth sizes do you recommend for broadcasting sectors?  We recommend starting with a 10×20 booth for effective engagement that attracts attendees. \nWhy is an aluminum booth better than wood?  Aluminum booths are lighter\, more durable\, and offer a modern aesthetic compared to traditional wooden booths. \nWhat can you tell me about Las Vegas?  Las Vegas is known for its vibrant entertainment scene and is a prime location for industry events like NAB Show. \nHow does NAB SHOW 2026 benefit exhibitors?  This event connects exhibitors with thousands of buyers\, creating valuable networking and sales opportunities. \nHow can SNAP EXHIBITIONS help make everything perfect about their booth?  We provide complete turnkey booth solutions\, ensuring every detail is executed flawlessly for your success. \nAs a leading provider of NAB SHOW 2026 booth rental solutions\, we ensure that your exhibit captures attention and meets your goals. Contact us today to elevate your exhibitor presence at this must-attend event.
URL:https://magiclasvegas2026.com/event/nab-show-2026/
CATEGORIES:Broadcasting,Multimedia Technologies,Television & Entertainment,Video Games - Interactive Entertainment
END:VEVENT
END:VCALENDAR