BEGIN:VCALENDAR
VERSION:2.0
PRODID:-//MAGIC LAS VEGAS 2026— Local Booth Builder &amp; Rentals - ECPv6.15.13.1//NONSGML v1.0//EN
CALSCALE:GREGORIAN
METHOD:PUBLISH
X-WR-CALNAME:MAGIC LAS VEGAS 2026— Local Booth Builder &amp; Rentals
X-ORIGINAL-URL:https://magiclasvegas2026.com
X-WR-CALDESC:Events for MAGIC LAS VEGAS 2026— Local Booth Builder &amp; Rentals
REFRESH-INTERVAL;VALUE=DURATION:PT1H
X-Robots-Tag:noindex
X-PUBLISHED-TTL:PT1H
BEGIN:VTIMEZONE
TZID:UTC
BEGIN:STANDARD
TZOFFSETFROM:+0000
TZOFFSETTO:+0000
TZNAME:UTC
DTSTART:20250101T000000
END:STANDARD
END:VTIMEZONE
BEGIN:VEVENT
DTSTART;TZID=UTC:20260516T090000
DTEND;TZID=UTC:20260519T235959
DTSTAMP:20260421T213301
CREATED:20251102T173438Z
LAST-MODIFIED:20251102T173438Z
UID:25987-1778922000-1779235199@magiclasvegas2026.com
SUMMARY:NRA SHOW '2026
DESCRIPTION:NRA SHOW ‘2026 booth rental — Premium Exhibitor Guide & Custom Booth Options\nAbout NRA SHOW ‘2026\nNRA SHOW ‘2026 booth rental offers seamless solutions for foodservice professionals. Taking place at McCormick Place Convention Center in Chicago\, this event is the largest gathering of foodservice professionals in the western hemisphere. Exhibitors will connect with leaders in Catering & Hospitality Industries\, Food Processing Industries\, Wine & Spirits – Viticulture & Enology – Beer to showcase cutting-edge products and services. \n\nKey Details: May 19–22\, 2026\, 9:00 AM–5:00 PM\nMcCormick Place Convention Center\n2301 S. Lake Shore Drive\, Chicago\, Illinois\, USA\n\nVenue & Location\nThe event will be hosted at McCormick Place Convention Center\, located at 2301 S. Lake Shore Drive\, Chicago\, Illinois\, USA. This prime venue offers convenient logistics for move-in and dock access\, setting the stage for a successful event. \nIf you wish to reach us\, you may do so at the provided phone number. \nChicago IL: Our Services\nWe DESIGN\, PRODUCE\, INSTALL & DISMANTLE turnkey booth rentals in this city. Our comprehensive services encompass concept and design\, modular frames\, branded SEG graphics\, storage\, and on-site installation & dismantle (I&D). \nCustom Booth Models\nOur popular booth footprints include: \n\n10×10 booths: Ideal for small start-ups and established exhibitors looking to maximize their presence.\n10×20 booths: Provide ample space for engaging with customers while showcasing more products.\n20×20 booths: Best for larger businesses and brands wanting to make a significant impact.\n\nFor in-depth insights on our work\, check out our Snap Exhibitions Custom Booth Models. For the entirety of our service offerings\, visit our full-service exhibit support. If you wish to inquire further\, contact our team. \nFAQ\nQ: What is NRA SHOW ‘2026 booth rental? \nA: NRA SHOW ‘2026 booth rental provides exhibitors with a premium solution for showcasing their offerings in the foodservice industry. \nQ: What are the hours for NRA SHOW ‘2026? \nA: The event runs from May 19–22\, 2026\, between 9:00 AM and 5:00 PM. \nQ: What booth sizes are recommended for catering and hospitality sectors? \nA: We typically recommend a 10×20 for adequate display or a 20×20 for larger brands to engage your audience effectively. \nQ: Why is an aluminum booth better than wood? \nA: Aluminum booths are lighter\, more durable\, and often easier to transport and install compared to wooden booths. \nQ: What can I find at NRA SHOW ‘2026? \nA: You’ll discover a wide array of products and services related to the foodservice and hospitality industry. \nQ: How can Snap Exhibitions help make everything perfect about my booth? \nA: We provide comprehensive support\, ensuring your booth is designed\, built\, and installed to meet your specific needs for a successful show. \nIn conclusion\, NRA SHOW ‘2026 booth rental is your gateway to a successful presence at one of the industry’s most significant events. For more information on how we can assist in making your exhibit seamless\, contact our team today!
URL:https://magiclasvegas2026.com/event/nra-show-2026/
CATEGORIES:Catering & Hospitality Industries,Food Processing Industries,Wine & Spirits - Viticulture & Enology - Beer
END:VEVENT
BEGIN:VEVENT
DTSTART;TZID=UTC:20260721T090000
DTEND;TZID=UTC:20260723T235959
DTSTAMP:20260421T213301
CREATED:20251102T173551Z
LAST-MODIFIED:20251102T173551Z
UID:25990-1784624400-1784851199@magiclasvegas2026.com
SUMMARY:ASI SHOW CHICAGO 2026
DESCRIPTION:ASI SHOW CHICAGO 2026 Booth Rental — Premium Exhibitor Guide & Custom Booth Options\nAbout ASI SHOW CHICAGO 2026\nVenue & Location\nChicago IL: Our Services\nCustom Booth Models\nFAQ\nAbout ASI SHOW CHICAGO 2026\nASI SHOW CHICAGO 2026 booth rental is your gateway to an unmatched exhibitor experience. This premier regional networking event caters to advertising industry professionals\, providing a platform for suppliers\, decorators\, and distributors. Attendees gain access to vital resources\, industry insights\, and networking opportunities that can propel their business forward.  \nKey Details: January 17–19\, 2026\, McCormick Place Convention Center\, 2301 S. Lake Shore Drive\, Chicago\, Illinois 60616\, USA. For more details\, visit the official ASI SHOW website. \nIndustries & Audience: This event brings together key players in Public Relations & Advertising\, Marketing & Selling. \nVenue & Location\nJoin us at the McCormick Place Convention Center\, located at 2301 S. Lake Shore Drive\, Chicago\, Illinois 60616\, USA. The venue offers excellent logistics such as move-in windows and convenient dock access for exhibitors. While we don’t provide specific details about the layout\, this central Chicago location is ideal for attracting a robust audience. \nChicago IL: Our Services\nIn Chicago IL\, we DESIGN\, PRODUCE\, INSTALL & DISMANTLE turnkey booth rentals. Our services encompass concept and design development\, modular frame setups\, branded SEG graphics\, reception and storage solutions\, TV mounts\, and on-site installation and dismantle services. Our goal is to ensure that your presence at ASI SHOW CHICAGO 2026 is both impactful and seamless. \nCustom Booth Models\nWe offer a variety of booth sizes to suit your needs at ASI SHOW CHICAGO 2026: \n\n10×10 — Perfect for solo exhibitors or businesses just entering the market.\n10×20 — Ideal for companies looking to showcase more products and engage with attendees.\n20×20 — Great for larger brands wanting to make a bold statement and attract significant attention.\n\nExplore our Snap Exhibitions Custom Booth Models designed to captivate your audience. We also provide full-service exhibit support to streamline your exhibit experience. For personalized guidance on your setup\, make sure to contact our team. \nFAQ\nQ: What are the booth rental options available for ASI SHOW CHICAGO 2026?A: We offer various booth sizes including 10×10\, 10×20\, and 20×20\, best suited for different exhibitor needs. \nQ: When is ASI SHOW CHICAGO 2026?A: The event will take place from January 17–19\, 2026\, with daily hours from 9:00 AM to 5:00 PM. \nQ: Why should I choose ASI SHOW CHICAGO 2026 to showcase my brand?A: This event provides a unique platform to network\, connect\, and engage with industry leaders\, enhancing your exposure. \nQ: Why is an aluminum booth a better choice than wood?A: Aluminum booths are more durable\, lightweight\, and environmentally friendly compared to traditional wood booths. \nQ: What services does Snap Exhibitions provide in Chicago?A: We specialize in turnkey booth rentals\, ensuring a stress-free experience through design\, production\, and installation. \nQ: How can Snap Exhibitions help make my booth perfect?A: We customize display spaces to reflect your brand identity and support you every step of the way for a flawless execution. \nIn conclusion\, our ASI SHOW CHICAGO 2026 booth rental option offers an incredible opportunity for advertising and marketing professionals. Take the step to secure your booth today and achieve an impactful presence at the show. We invite you to explore our services further and contact our team for personalized assistance!
URL:https://magiclasvegas2026.com/event/asi-show-chicago-2026/
CATEGORIES:Marketing & Selling,Public Relations & Advertising
END:VEVENT
BEGIN:VEVENT
DTSTART;TZID=UTC:20261004T090000
DTEND;TZID=UTC:20261007T235959
DTSTAMP:20260421T213301
CREATED:20251102T173259Z
LAST-MODIFIED:20251102T173259Z
UID:25983-1791104400-1791417599@magiclasvegas2026.com
SUMMARY:APTA EXPO 2026
DESCRIPTION:APTA EXPO 2026 booth rental — Essential Exhibitor Guide & Custom Booth Options\nAbout APTA EXPO 2026\nVenue & Location\nChicago IL: Our Services\nCustom Booth Models\nFAQ\nAPTA EXPO 2026 — Discover Opportunities\nAPTA EXPO 2026 booth rental is a must for anyone attending this exceptional trade show dedicated to the public transportation sector. Set to run from Dec 3–5\, 2026\, 9:00 AM–5:00 PM at McCormick Place Convention Center\, 2301 S. Lake Shore Drive\, Chicago\, Illinois\, USA\, this event presents a unique opportunity for exhibitors to showcase their latest innovations\, products\, and services in an industry undergoing rapid change. Visitors will enjoy a comprehensive view of the latest technologies and solutions in areas such as Trucks and Utility Vehicles\, Railways Engineering\, Logistics\, and Transportation Engineering. \nKey Details: \nEvent Dates: Dec 3–5\, 2026 \nLocation: McCormick Place Convention Center \nAddress: 2301 S. Lake Shore Drive\, Chicago\, Illinois\, USA \nIndustries & Audience: Trucks and Utility Vehicles\, Railways Engineering\, Logistics & Transportation Engineering\, Urban Equipment & Engineering\, Roads\, Bridges & Tunnels. \nVenue & Location\nThe APTA EXPO 2026 will take place at McCormick Place Convention Center\, located conveniently at 2301 S. Lake Shore Drive\, Chicago\, Illinois\, USA. This venue is equipped to manage logistics with ample move-in windows and dock access. For inquiries\, feel free to contact them by phone. \nChicago IL: Our Services\nWe DESIGN\, PRODUCE\, INSTALL & DISMANTLE turnkey booth rentals in this city\, Chicago IL. Our comprehensive services encompass concept and design\, modular frames\, branded SEG graphics\, and all essential booth features like reception/storage areas and TV mounts\, complemented by on-site installation and dismantling. \nCustom Booth Models\nExplore our range of Snap Exhibitions Custom Booth Models. Popular footprints include: \n\n10×10: Ideal for impactful presentations\, enhancing visibility.\n10×20: Offers more space for interaction and customer engagement.\n20×20: Perfect for large displays\, drawing in attendees with extensive showcases.\n\nThese booth sizes cater excellently to the Logistics & Transportation Engineering sectors\, allowing for an effective showcase of products and technologies. \nFor full-service exhibit support or to build your ideal booth\, contact our team. \nFAQ\n\nWhat is APTA EXPO 2026 booth rental?  It refers to the opportunity to rent exhibit space and custom-designed booths during the APTA EXPO 2026 event.\nWhen does APTA EXPO 2026 take place?  The event runs from Dec 3–5\, 2026\, from 9:00 AM to 5:00 PM.\nWhat booth sizes do you recommend for the Logistics & Transportation Engineering category?  Sizes such as 10×10 and 10×20 are most effective for showcasing significant innovations.\nWhy is an aluminum booth better than wood?  Aluminum booths are lightweight\, more durable\, and easier to set up compared to traditional wooden booths.\nWhat can you tell me about Chicago?  Chicago is a vibrant city known for its architecture and diverse industries\, making it ideal for significant events like APTA EXPO 2026.\nHow can SNAP EXHIBITIONS help make my booth perfect?  We provide comprehensive support\, from design to dismantling\, ensuring your booth is tailored to your needs and stands out.\n\nFor your presence at APTA EXPO 2026\, trust our expertise and connect with us today for APTA EXPO 2026 booth rental options that make your exhibit a success! Contact us now!
URL:https://magiclasvegas2026.com/event/apta-expo-2026/
CATEGORIES:Bridges & Tunnels,Logistics & Transportation Engineering - Handling Operations - Storage,Railways Engineering,Roads,Trucks and Utility Vehicles,Urban Equipment & Engineering
END:VEVENT
END:VCALENDAR