BEGIN:VCALENDAR
VERSION:2.0
PRODID:-//MAGIC LAS VEGAS 2026— Local Booth Builder &amp; Rentals - ECPv6.15.13.1//NONSGML v1.0//EN
CALSCALE:GREGORIAN
METHOD:PUBLISH
X-WR-CALNAME:MAGIC LAS VEGAS 2026— Local Booth Builder &amp; Rentals
X-ORIGINAL-URL:https://magiclasvegas2026.com
X-WR-CALDESC:Events for MAGIC LAS VEGAS 2026— Local Booth Builder &amp; Rentals
REFRESH-INTERVAL;VALUE=DURATION:PT1H
X-Robots-Tag:noindex
X-PUBLISHED-TTL:PT1H
BEGIN:VTIMEZONE
TZID:UTC
BEGIN:STANDARD
TZOFFSETFROM:+0000
TZOFFSETTO:+0000
TZNAME:UTC
DTSTART:20250101T000000
END:STANDARD
END:VTIMEZONE
BEGIN:VEVENT
DTSTART;TZID=UTC:20260505T090000
DTEND;TZID=UTC:20260507T235959
DTSTAMP:20260421T174830
CREATED:20251102T172844Z
LAST-MODIFIED:20251102T172844Z
UID:25973-1777971600-1778198399@magiclasvegas2026.com
SUMMARY:HD EXPO + CONFERENCE 2026
DESCRIPTION:HD EXPO + CONFERENCE 2026 booth rental — Essential Solutions\nAbout HD EXPO + CONFERENCE 2026\nHD EXPO + CONFERENCE 2026 booth rental offers a unique opportunity for exhibitors in the hospitality design field. Visitors and exhibitors benefit from an event that fosters long-lasting business relationships\, drives innovation\, and inspires fresh concepts. This expo is tailored for professionals in the Catering & Hospitality Industries\, Retail & Shop Fitting Equipment & Service\, Architecture\, Decoration\, Home & Office Design\, Furniture\, Lighting. \nKey Details: May 1–3\, 2026\, Mandalay Bay Convention Center\, 3950 Las Vegas Blvd. South Las Vegas\, Nevada\, USA. For more information\, visit the official HD Expo website. \nVenue & Location\nThe event will be held at Mandalay Bay Convention Center\, located at 3950 Las Vegas Blvd. South\, Las Vegas\, Nevada\, USA. This well-equipped venue provides easy access for exhibitors\, featuring convenient logistics for move-in and dock access. \nLas Vegas NV: Our Services\nWe DESIGN\, PRODUCE\, INSTALL & DISMANTLE turnkey booth rentals in Las Vegas NV. Our comprehensive service includes concept and design\, modular frames\, branded SEG graphics\, reception and storage solutions\, TV mount configurations\, and on-site installation and dismantling. \nCustom Booth Models\nWe offer a variety of booth sizes suitable for the multifaceted needs of attendees in the hospitality design sectors. Popular footprints include: \n\n10×10 booth: Ideal for compact displays and direct engagement with clients.\n10×20 booth: Provides a balanced space for presentations and interaction.\n20×20 booth: Perfect for larger showcases and providing extensive product visibility.\n\nExplore our Snap Exhibitions Custom Booth Models and enjoy our full-service exhibit support. If you’re ready to elevate your trade show presence\, don’t hesitate to contact our team. \nFAQ\n\nWhat is the HD EXPO + CONFERENCE 2026 booth rental?\nHD EXPO + CONFERENCE 2026 booth rental provides exhibitors with tailored solutions for impactful presentations at this premier hospitality design expo.\nWhat are the event hours for HD EXPO + CONFERENCE 2026?\nThe event runs from May 1–3\, 2026. Exact hours are between 9:00 AM and 5:00 PM daily.\nWhat booth sizes do you recommend for participants in the hospitality design sectors?\nWe recommend considering booth sizes such as 10×10\, 10×20\, or 20×20 based on your display requirements and audience engagement strategies.\nWhy is an aluminum booth better than wood?\nAluminum booths are lightweight\, durable\, and offer a modern look\, making them easier to transport and install compared to traditional wood constructions.\nWhat can I expect from this city during my stay?\nLas Vegas offers rich entertainment options\, dining experiences\, and networking opportunities\, ensuring your trade show experience is engaging on and off the floor.\nWhy should we exhibit at the HD EXPO + CONFERENCE 2026?\nThis event not only showcases current trends but also allows for networking with industry leaders and potential clients\, maximizing your exposure and business development.\nHow can SNAP EXHIBITIONS help make our booth perfect?\nWe specialize in creating customized solutions that meet your specific needs\, ensuring your booth is not only visually appealing but also functional and effective.\n\nWith HD EXPO + CONFERENCE 2026 booth rental\, elevate your exhibit experience and attract new clients with impactful designs! For tailored solutions\, visit our contact page.
URL:https://magiclasvegas2026.com/event/hd-expo-conference-2026/
CATEGORIES:Architecture,Catering & Hospitality Industries,Decoration,Furniture,Home & Office Design,Lighting,Retail & Shop Fitting Equipment & Service
END:VEVENT
END:VCALENDAR