BEGIN:VCALENDAR
VERSION:2.0
PRODID:-//MAGIC LAS VEGAS 2026— Local Booth Builder &amp; Rentals - ECPv6.15.20//NONSGML v1.0//EN
CALSCALE:GREGORIAN
METHOD:PUBLISH
X-WR-CALNAME:MAGIC LAS VEGAS 2026— Local Booth Builder &amp; Rentals
X-ORIGINAL-URL:https://magiclasvegas2026.com
X-WR-CALDESC:Events for MAGIC LAS VEGAS 2026— Local Booth Builder &amp; Rentals
REFRESH-INTERVAL;VALUE=DURATION:PT1H
X-Robots-Tag:noindex
X-PUBLISHED-TTL:PT1H
BEGIN:VTIMEZONE
TZID:UTC
BEGIN:STANDARD
TZOFFSETFROM:+0000
TZOFFSETTO:+0000
TZNAME:UTC
DTSTART:20250101T000000
END:STANDARD
END:VTIMEZONE
BEGIN:VEVENT
DTSTART;TZID=UTC:20260505T090000
DTEND;TZID=UTC:20260506T235959
DTSTAMP:20260425T225653
CREATED:20251102T190817Z
LAST-MODIFIED:20251102T190817Z
UID:26196-1777971600-1778111999@magiclasvegas2026.com
SUMMARY:BORDER SECURITY EXPO 2026
DESCRIPTION:BORDER SECURITY EXPO 2026 booth rental — Ultimate Guide\nAbout BORDER SECURITY EXPO 2026\nVenue & Location\nPhoenix AZ: Our Services\nCustom Booth Models\nFAQ\nAbout BORDER SECURITY EXPO 2026\nThe BORDER SECURITY EXPO 2026 booth rental is essential for exhibitors looking to make a strong impact at this prominent event. This expo is an international conference focusing on border security solutions\, featuring high-level discussions from industry leaders. Participants will gain insights into the latest innovations\, making it a must-attend for those involved in **Security – Risk Management** and **Defense – Armament** sectors.  \nKey Details:\nJune 1–3\, 2026\, 9:00 AM–5:00 PM\, Phoenix\, AZ\, USA.   \nJoin us in Phoenix for the BORDER SECURITY EXPO 2026\, where you’ll have the opportunity to connect with key players in the industry and explore cutting-edge solutions that matter. \nVenue & Location\nThe BORDER SECURITY EXPO 2026 is taking place in Phoenix\, AZ\, USA. The venue is well-equipped to handle large events\, providing ample logistics support including convenient move-in windows and dock access for exhibitors. For any inquiries\, feel free to reach out via phone if needed. \nPhoenix AZ: Our Services\nIn Phoenix AZ\, we DESIGN\, PRODUCE\, INSTALL & DISMANTLE turnkey booth rentals. Our offerings cover every aspect of your exhibit needs—from innovative concept and design to modular frames\, branded SEG graphics\, and essential facilities like reception and storage areas. We ensure on-site installation and dismantling for a seamless experience. \nCustom Booth Models\nExplore our **popular footprints** such as:\n– **10×10**: Perfect for startups looking to make their first impression.\n– **10×20**: Ideal for mid-sized companies aiming to showcase more without overwhelming the space.\n– **20×20**: Great for larger brands needing significant visibility. \nOur [Snap Exhibitions Custom Booth Models](https://snapexhibitions.com/works/las-vegas-custom-booth-models/) fit the needs of exhibitors in **Security – Risk Management** and **Defense – Armament**\, allowing for effective engagement with attendees. We provide [full-service exhibit support](https://snapexhibitions.com/pages/services-snap-exhibitions/) to ensure you’re fully prepared to shine at the expo. Don’t hesitate to [contact our team](https://snapexhibitions.com/contact-snap-exhibitions/) for any assistance. \nFAQ\nQ1: What is the BORDER SECURITY EXPO 2026 booth rental?\nA1: The BORDER SECURITY EXPO 2026 booth rental is a complete service offering for exhibitors to effectively showcase their brand and solutions at the expo. \nQ2: What are the dates for the event?\nA2: The event will take place from June 1 to June 3\, 2026\, running daily from 9:00 AM to 5:00 PM. \nQ3: What booth sizes are recommended for the Defense – Armament sector?\nA3: Booth sizes like 10×20 and 20×20 provide ample space for interactive displays and product showcases relevant to the Defense – Armament audience. \nQ4: Why is an aluminum booth better than wood?\nA4: Aluminum booths are generally lighter\, more durable\, and easier to set up than wooden booths\, making them ideal for efficient transport and use. \nQ5: What services does Snap Exhibitions offer in Phoenix?\nA5: We offer design\, production\, installation\, and dismantling of turnkey booth rentals\, ensuring a hassle-free experience for our clients. \nQ6: How can we make everything perfect about our booth?\nA6: We work with you every step of the way\, from design to execution\, to make sure your booth stands out and aligns with your brand message. \nQ7: What can I expect from attending BORDER SECURITY EXPO 2026?\nA7: Attendees can expect valuable networking opportunities\, engaging presentations from industry leaders\, and the latest advancements in border security solutions. \nIn conclusion\, if you’re looking for a **BORDER SECURITY EXPO 2026 booth rental**\, we’re here to help you every step of the way. For further assistance or to design your custom booth rental\, please [contact our team](https://snapexhibitions.com/contact-snap-exhibitions/) today!
URL:https://magiclasvegas2026.com/event/border-security-expo-2026/
CATEGORIES:Defense - Armament,Security - Risk Management
END:VEVENT
END:VCALENDAR