BEGIN:VCALENDAR
VERSION:2.0
PRODID:-//MAGIC LAS VEGAS 2026— Local Booth Builder &amp; Rentals - ECPv6.15.13.1//NONSGML v1.0//EN
CALSCALE:GREGORIAN
METHOD:PUBLISH
X-ORIGINAL-URL:https://magiclasvegas2026.com
X-WR-CALDESC:Events for MAGIC LAS VEGAS 2026— Local Booth Builder &amp; Rentals
REFRESH-INTERVAL;VALUE=DURATION:PT1H
X-Robots-Tag:noindex
X-PUBLISHED-TTL:PT1H
BEGIN:VTIMEZONE
TZID:UTC
BEGIN:STANDARD
TZOFFSETFROM:+0000
TZOFFSETTO:+0000
TZNAME:UTC
DTSTART:20250101T000000
END:STANDARD
END:VTIMEZONE
BEGIN:VEVENT
DTSTART;TZID=UTC:20260310T090000
DTEND;TZID=UTC:20260312T235959
DTSTAMP:20260421T180557
CREATED:20251102T191443Z
LAST-MODIFIED:20251102T191443Z
UID:26210-1773133200-1773359999@magiclasvegas2026.com
SUMMARY:TECHCONNECT WORLD INNOVATION 2026
DESCRIPTION:TECHCONNECT WORLD INNOVATION 2026 booth rental — Ultimate Guide\nAbout TECHCONNECT WORLD INNOVATION 2026\nVenue & Location\nRaleigh NC: Our Services\nCustom Booth Models\nFAQ\nTECHCONNECT WORLD INNOVATION 2026 — About\nTECHCONNECT WORLD INNOVATION 2026 booth rental is designed for companies looking to showcase their advancements in Micro & Nanotechnologies\, Telecommunications\, Robotics\, and more. The conference invites exhibitors from a range of sectors—including Real Time Systems & Embedded Systems and Advanced Materials. Visitors to this renowned event can expect to gain valuable insights into applied research and the latest innovations from universities and labs. Key Details: Start Date: Mar 21\, 2026\, End Date: Mar 23\, 2026\, Location: Raleigh Convention Center\, 500 South Salisbury Street\, Raleigh\, NC\, USA. For more details\, visit the official site. \nIndustries & Audience\nExhibitors from various sectors such as Knowledge Based Systems and Sciences for Engineers – Research & Development are encouraged to participate and showcase their latest technologies. \nVenue & Location\nThe event takes place at the Raleigh Convention Center\, located at 500 South Salisbury Street\, Raleigh\, NC\, USA. This venue offers convenient logistics including loading dock access for move-in and expansive facilities set up to accommodate a thriving exhibition. \nRaleigh NC: Our Services\nIn Raleigh\, we DESIGN\, PRODUCE\, INSTALL & DISMANTLE turnkey booth rentals. Our services include concept/design development\, modular frames\, branded SEG graphics\, reception/storage areas\, TV mounts\, and on-site installation and dismantling. Our focus is to meet the needs of exhibitors seeking a seamless experience. \nCustom Booth Models\nOur popular footprints include 10×10\, 10×20\, and 20×20 configurations. Each model is designed to facilitate engagement with attendees from your sector\, optimizing your exhibit’s visibility and interaction potential. For more information about our offerings\, check out our Snap Exhibitions Custom Booth Models or visit our full-service exhibit support page. If you’re ready to boost your presence\, contact our team today! \nFAQ\nQ1: What are the dates for the TECHCONNECT WORLD INNOVATION 2026 event? A1: The event runs from Mar 21\, 2026\, to Mar 23\, 2026. \nQ2: How can TECHCONNECT WORLD INNOVATION 2026 booth rental help me? A2: Our services ensure a smooth\, hassle-free setup\, allowing you to focus on engaging with visitors and showcasing your innovations. \nQ3: What are recommended booth sizes for exhibitors in the Telecommunications sector? A3: Booth sizes like 10×20 are popular\, as they offer enough space for detailed product demonstrations and interactions. \nQ4: Why is an aluminum booth better than wood for trade shows? A4: Aluminum is lightweight\, versatile\, and easier to transport and set up\, providing better durability and a modern aesthetic. \nQ5: What local attractions can I explore in Raleigh during the event? A5: Raleigh is known for its museums\, parks\, and vibrant food scene\, making it a great destination for both business and leisure. \nQ6: How does SNAP EXHIBITIONS ensure everything is perfect about my booth?  A6: We provide comprehensive support including preview consultations\, high-quality materials\, and experienced staff to ensure your booth runs flawlessly. \nQ7: Can I get live assistance during the event? A7: Yes! Our team will be on-site\, ready to assist with any last-minute needs or changes. \nIn conclusion\, TECHCONNECT WORLD INNOVATION 2026 booth rental will elevate your presence at this key event. Whether you focus on Micro & Nanotechnologies or Artificial Intelligence\, contact us to secure your space now at Snap Exhibitions.
URL:https://magiclasvegas2026.com/event/techconnect-world-innovation-2026/
CATEGORIES:Advanced Materials,Computers Networks,Electronic Design & Components,Knowledge Based Systems & Artificial Intelligence,Micro & Nanotechnologies,Real Time Systems & Embedded Systems,Robotics,Sciences for Engineers - Research & Development,Telecommunications
END:VEVENT
END:VCALENDAR